BEGIN:VCALENDAR
VERSION:2.0
PRODID:-//SUPSA.org.za - ECPv6.15.20//NONSGML v1.0//EN
CALSCALE:GREGORIAN
METHOD:PUBLISH
X-WR-CALNAME:SUPSA.org.za
X-ORIGINAL-URL:https://supsa.org.za
X-WR-CALDESC:Events for SUPSA.org.za
REFRESH-INTERVAL;VALUE=DURATION:PT1H
X-Robots-Tag:noindex
X-PUBLISHED-TTL:PT1H
BEGIN:VTIMEZONE
TZID:Europe/Helsinki
BEGIN:DAYLIGHT
TZOFFSETFROM:+0200
TZOFFSETTO:+0300
TZNAME:EEST
DTSTART:20140330T010000
END:DAYLIGHT
BEGIN:STANDARD
TZOFFSETFROM:+0300
TZOFFSETTO:+0200
TZNAME:EET
DTSTART:20141026T010000
END:STANDARD
BEGIN:DAYLIGHT
TZOFFSETFROM:+0200
TZOFFSETTO:+0300
TZNAME:EEST
DTSTART:20150329T010000
END:DAYLIGHT
BEGIN:STANDARD
TZOFFSETFROM:+0300
TZOFFSETTO:+0200
TZNAME:EET
DTSTART:20151025T010000
END:STANDARD
BEGIN:DAYLIGHT
TZOFFSETFROM:+0200
TZOFFSETTO:+0300
TZNAME:EEST
DTSTART:20160327T010000
END:DAYLIGHT
BEGIN:STANDARD
TZOFFSETFROM:+0300
TZOFFSETTO:+0200
TZNAME:EET
DTSTART:20161030T010000
END:STANDARD
BEGIN:DAYLIGHT
TZOFFSETFROM:+0200
TZOFFSETTO:+0300
TZNAME:EEST
DTSTART:20170326T010000
END:DAYLIGHT
BEGIN:STANDARD
TZOFFSETFROM:+0300
TZOFFSETTO:+0200
TZNAME:EET
DTSTART:20171029T010000
END:STANDARD
BEGIN:DAYLIGHT
TZOFFSETFROM:+0200
TZOFFSETTO:+0300
TZNAME:EEST
DTSTART:20180325T010000
END:DAYLIGHT
BEGIN:STANDARD
TZOFFSETFROM:+0300
TZOFFSETTO:+0200
TZNAME:EET
DTSTART:20181028T010000
END:STANDARD
BEGIN:DAYLIGHT
TZOFFSETFROM:+0200
TZOFFSETTO:+0300
TZNAME:EEST
DTSTART:20190331T010000
END:DAYLIGHT
BEGIN:STANDARD
TZOFFSETFROM:+0300
TZOFFSETTO:+0200
TZNAME:EET
DTSTART:20191027T010000
END:STANDARD
BEGIN:DAYLIGHT
TZOFFSETFROM:+0200
TZOFFSETTO:+0300
TZNAME:EEST
DTSTART:20200329T010000
END:DAYLIGHT
BEGIN:STANDARD
TZOFFSETFROM:+0300
TZOFFSETTO:+0200
TZNAME:EET
DTSTART:20201025T010000
END:STANDARD
END:VTIMEZONE
BEGIN:VEVENT
DTSTART;TZID=Europe/Helsinki:20190303T080000
DTEND;TZID=Europe/Helsinki:20190303T170000
DTSTAMP:20260419T192913
CREATED:20190128T110051Z
LAST-MODIFIED:20190128T110051Z
UID:2653-1551600000-1551632400@supsa.org.za
SUMMARY:Signature Century City SUP Challenge
DESCRIPTION:
URL:https://supsa.org.za/event/signature-century-city-sup-challenge/
LOCATION:Cape Town\, Cape Town\, Cape Town\, Western Province\, South Africa
END:VEVENT
BEGIN:VEVENT
DTSTART;VALUE=DATE:20190302
DTEND;VALUE=DATE:20190303
DTSTAMP:20260419T192913
CREATED:20190124T114148Z
LAST-MODIFIED:20190124T114148Z
UID:2648-1551484800-1551571199@supsa.org.za
SUMMARY:Paddle for the Paw
DESCRIPTION:The BIGGEST Social event for the whole SUP Family is Paddle for the PAW hosted by LEAPS and SUP Cape Town. This will take place at SUP Cape Town on the 2nd March at Battery Park Branch. Details on the Poster. Always fun for the whole family and there pets
URL:https://supsa.org.za/event/paddle-for-the-paw/
LOCATION:Western Cape
END:VEVENT
BEGIN:VEVENT
DTSTART;TZID=Europe/Helsinki:20190209T080000
DTEND;TZID=Europe/Helsinki:20190209T170000
DTSTAMP:20260419T192913
CREATED:20190128T112534Z
LAST-MODIFIED:20190128T112534Z
UID:2673-1549699200-1549731600@supsa.org.za
SUMMARY:West Coast Canoe Challenge
DESCRIPTION:
URL:https://supsa.org.za/event/west-coast-canoe-challenge/
LOCATION:Cape Town\, Velddrif
END:VEVENT
BEGIN:VEVENT
DTSTART;VALUE=DATE:20190126
DTEND;VALUE=DATE:20190204
DTSTAMP:20260419T192913
CREATED:20190124T113529Z
LAST-MODIFIED:20190124T113821Z
UID:2645-1548460800-1549238399@supsa.org.za
SUMMARY:The Crossing - To Robben Island & Back
DESCRIPTION:
URL:https://supsa.org.za/event/the-crossing-to-robben-island-back/
LOCATION:Western Cape
END:VEVENT
BEGIN:VEVENT
DTSTART;VALUE=DATE:20181110
DTEND;VALUE=DATE:20181112
DTSTAMP:20260419T192913
CREATED:20181005T131825Z
LAST-MODIFIED:20181005T131825Z
UID:2160-1541808000-1541980799@supsa.org.za
SUMMARY:Mistral Summer SUP Weekend
DESCRIPTION:
URL:https://supsa.org.za/event/mistral-summer-sup-weekend/
LOCATION:Western Cape
CATEGORIES:SUP Racing Events
END:VEVENT
BEGIN:VEVENT
DTSTART;TZID=Europe/Helsinki:20150427T090000
DTEND;TZID=Europe/Helsinki:20150427T170000
DTSTAMP:20260419T192913
CREATED:20150304T162241Z
LAST-MODIFIED:20150304T162241Z
UID:41-1430125200-1430154000@supsa.org.za
SUMMARY:King of the Bay
DESCRIPTION:
URL:https://supsa.org.za/event/king-of-the-bay/
LOCATION:Durban Bay DUC\, 79 Signal Rd\, Point\, Durban\, 4001\, Durban\, KwaZulu Natal\, 4001\, South Africa
END:VEVENT
BEGIN:VEVENT
DTSTART;TZID=Europe/Helsinki:20150321T080000
DTEND;TZID=Europe/Helsinki:20150321T170000
DTSTAMP:20260419T192913
CREATED:20150301T042347Z
LAST-MODIFIED:20150305T134725Z
UID:91-1426924800-1426957200@supsa.org.za
SUMMARY:Coreban There & Back Cape Point Challenge
DESCRIPTION:
URL:https://supsa.org.za/event/corban-there-back-cape-point-challenge/
LOCATION:Fish Hoek Lifesaving Club\, Fish Hoek Surf Lifesaving Club\, Peter Creese Way\, Fish Hoek Beach\, Fish Hoek\, Western Province\, 7995\, South Africa
END:VEVENT
BEGIN:VEVENT
DTSTART;TZID=Europe/Helsinki:20150317T080000
DTEND;TZID=Europe/Helsinki:20150317T170000
DTSTAMP:20260419T192913
CREATED:20150305T045035Z
LAST-MODIFIED:20150305T133429Z
UID:102-1426579200-1426611600@supsa.org.za
SUMMARY:SUPSA Awards Evening & Auction
DESCRIPTION:
URL:https://supsa.org.za/event/supsa-awards-evening-auction/
LOCATION:Cape Town\, Cape Town\, Cape Town\, Western Province\, South Africa
END:VEVENT
BEGIN:VEVENT
DTSTART;TZID=Europe/Helsinki:20150305T080000
DTEND;TZID=Europe/Helsinki:20150305T170000
DTSTAMP:20260419T192913
CREATED:20150305T043907Z
LAST-MODIFIED:20150305T043907Z
UID:99-1425542400-1425574800@supsa.org.za
SUMMARY:Century City Red Paddle SA 6km SUP Sprint
DESCRIPTION:
URL:https://supsa.org.za/event/century-city-red-paddle-sa-6km-sup-sprint/
LOCATION:Century City\, Half Moon Bay\, Century City\, Cape Town\, Western Cape\, South Africa
END:VEVENT
BEGIN:VEVENT
DTSTART;TZID=Europe/Helsinki:20150215T080000
DTEND;TZID=Europe/Helsinki:20150215T170000
DTSTAMP:20260419T192913
CREATED:20150215T042133Z
LAST-MODIFIED:20150305T042321Z
UID:88-1423987200-1424019600@supsa.org.za
SUMMARY:Paddle for Paws
DESCRIPTION:
URL:https://supsa.org.za/event/paddle-for-paws/
LOCATION:V&A Waterfront harbour
END:VEVENT
END:VCALENDAR