BEGIN:VCALENDAR
VERSION:2.0
PRODID:-//SUPSA.org.za - ECPv6.15.20//NONSGML v1.0//EN
CALSCALE:GREGORIAN
METHOD:PUBLISH
X-WR-CALNAME:SUPSA.org.za
X-ORIGINAL-URL:https://supsa.org.za
X-WR-CALDESC:Events for SUPSA.org.za
REFRESH-INTERVAL;VALUE=DURATION:PT1H
X-Robots-Tag:noindex
X-PUBLISHED-TTL:PT1H
BEGIN:VTIMEZONE
TZID:Europe/Helsinki
BEGIN:DAYLIGHT
TZOFFSETFROM:+0200
TZOFFSETTO:+0300
TZNAME:EEST
DTSTART:20180325T010000
END:DAYLIGHT
BEGIN:STANDARD
TZOFFSETFROM:+0300
TZOFFSETTO:+0200
TZNAME:EET
DTSTART:20181028T010000
END:STANDARD
BEGIN:DAYLIGHT
TZOFFSETFROM:+0200
TZOFFSETTO:+0300
TZNAME:EEST
DTSTART:20190331T010000
END:DAYLIGHT
BEGIN:STANDARD
TZOFFSETFROM:+0300
TZOFFSETTO:+0200
TZNAME:EET
DTSTART:20191027T010000
END:STANDARD
BEGIN:DAYLIGHT
TZOFFSETFROM:+0200
TZOFFSETTO:+0300
TZNAME:EEST
DTSTART:20200329T010000
END:DAYLIGHT
BEGIN:STANDARD
TZOFFSETFROM:+0300
TZOFFSETTO:+0200
TZNAME:EET
DTSTART:20201025T010000
END:STANDARD
BEGIN:DAYLIGHT
TZOFFSETFROM:+0200
TZOFFSETTO:+0300
TZNAME:EEST
DTSTART:20210328T010000
END:DAYLIGHT
BEGIN:STANDARD
TZOFFSETFROM:+0300
TZOFFSETTO:+0200
TZNAME:EET
DTSTART:20211031T010000
END:STANDARD
BEGIN:DAYLIGHT
TZOFFSETFROM:+0200
TZOFFSETTO:+0300
TZNAME:EEST
DTSTART:20220327T010000
END:DAYLIGHT
BEGIN:STANDARD
TZOFFSETFROM:+0300
TZOFFSETTO:+0200
TZNAME:EET
DTSTART:20221030T010000
END:STANDARD
END:VTIMEZONE
BEGIN:VEVENT
DTSTART;VALUE=DATE:20210910
DTEND;VALUE=DATE:20210913
DTSTAMP:20260422T033514
CREATED:20210609T050329Z
LAST-MODIFIED:20210609T050909Z
UID:4776-1631232000-1631491199@supsa.org.za
SUMMARY:2021 ICF SUP WORLD CHAMPIONSHIPS
DESCRIPTION:
URL:https://supsa.org.za/event/2021-icf-sup-world-championships/
LOCATION:Balatonfured\, Hungary\, Lake Balaton\, Balatonfured\, Hungary
END:VEVENT
BEGIN:VEVENT
DTSTART;VALUE=DATE:20210724
DTEND;VALUE=DATE:20210726
DTSTAMP:20260422T033514
CREATED:20210323T131825Z
LAST-MODIFIED:20210323T131842Z
UID:3918-1627084800-1627257599@supsa.org.za
SUMMARY:XOTB Wave event
DESCRIPTION:Info coming soon….. event under construction!
URL:https://supsa.org.za/event/xotb-wave-event/
LOCATION:Xpression on the Beach CT\, 165 Main Road\, Muizenberg\, Western Cape\, 7945\, South Africa
END:VEVENT
BEGIN:VEVENT
DTSTART;VALUE=DATE:20210530
DTEND;VALUE=DATE:20210531
DTSTAMP:20260422T033514
CREATED:20210419T090044Z
LAST-MODIFIED:20210505T103347Z
UID:3985-1622332800-1622419199@supsa.org.za
SUMMARY:KING OF THE BAY
DESCRIPTION:
URL:https://supsa.org.za/event/bay-union-king-of-the-bay/
LOCATION:Stella Canoe Club\, Wilson Wharf\, 3 Maritime Pl\, Durban Central\, Durban\, KwaZulu Natal\, 4001\, South Africa
END:VEVENT
BEGIN:VEVENT
DTSTART;TZID=Europe/Helsinki:20210514T171500
DTEND;TZID=Europe/Helsinki:20210514T191500
DTSTAMP:20260422T033514
CREATED:20210413T101105Z
LAST-MODIFIED:20210413T101431Z
UID:3944-1621012500-1621019700@supsa.org.za
SUMMARY:Fish Hoek Wreck & Back Paddle Series.... before the sun sets!
DESCRIPTION:
URL:https://supsa.org.za/event/fish-hoek-wreck-back-paddle-series-before-the-sun-sets-3/
LOCATION:Fish Hoek Beach Sports Club\, 3 Peter Creese Way\, Fish Hoek\, Western Cape\, 7995\, South Africa
END:VEVENT
BEGIN:VEVENT
DTSTART;TZID=Europe/Helsinki:20210507T171500
DTEND;TZID=Europe/Helsinki:20210507T191500
DTSTAMP:20260422T033514
CREATED:20210413T100628Z
LAST-MODIFIED:20210413T101403Z
UID:3942-1620407700-1620414900@supsa.org.za
SUMMARY:Fish Hoek Wreck & Back Paddle Series... before the sun sets!
DESCRIPTION:
URL:https://supsa.org.za/event/fish-hoek-wreck-back-paddle-series-before-the-sun-sets-2/
LOCATION:Fish Hoek Beach Sports Club\, 3 Peter Creese Way\, Fish Hoek\, Western Cape\, 7995\, South Africa
END:VEVENT
BEGIN:VEVENT
DTSTART;TZID=Europe/Helsinki:20210430T171500
DTEND;TZID=Europe/Helsinki:20210430T191500
DTSTAMP:20260422T033514
CREATED:20210413T100406Z
LAST-MODIFIED:20210413T101315Z
UID:3940-1619802900-1619810100@supsa.org.za
SUMMARY:Fish Hoek Wreck & Back Paddle Series..... before the sun sets!
DESCRIPTION:
URL:https://supsa.org.za/event/fish-hoek-wreck-back-paddle-series-before-the-sun-sets/
LOCATION:Fish Hoek Beach Sports Club\, 3 Peter Creese Way\, Fish Hoek\, Western Cape\, 7995\, South Africa
END:VEVENT
BEGIN:VEVENT
DTSTART;VALUE=DATE:20210427
DTEND;VALUE=DATE:20210428
DTSTAMP:20260422T033514
CREATED:20210311T123359Z
LAST-MODIFIED:20210311T124938Z
UID:3896-1619481600-1619567999@supsa.org.za
SUMMARY:Prescient Freedom Paddle
DESCRIPTION:
URL:https://supsa.org.za/event/prescient-freedom-paddle/
LOCATION:Oceana Power Boat Club\, Haul Rd\, Green Point\, Cape Town\, Western Cape\, 8005\, South Africa
CATEGORIES:SUP Racing Events
END:VEVENT
BEGIN:VEVENT
DTSTART;TZID=Europe/Helsinki:20210423T171500
DTEND;TZID=Europe/Helsinki:20210423T191500
DTSTAMP:20260422T033514
CREATED:20210413T100119Z
LAST-MODIFIED:20210413T101233Z
UID:3938-1619198100-1619205300@supsa.org.za
SUMMARY:Fish Hoek Wreck and Back Paddle Series.... before the sun sets!
DESCRIPTION:
URL:https://supsa.org.za/event/fish-hoek-wreck-and-back-paddle-series-before-the-sun-sets-2/
LOCATION:Fish Hoek Beach Sports Club\, 3 Peter Creese Way\, Fish Hoek\, Western Cape\, 7995\, South Africa
END:VEVENT
BEGIN:VEVENT
DTSTART;TZID=Europe/Helsinki:20210416T171500
DTEND;TZID=Europe/Helsinki:20210416T191500
DTSTAMP:20260422T033514
CREATED:20210413T095644Z
LAST-MODIFIED:20210413T101157Z
UID:3925-1618593300-1618600500@supsa.org.za
SUMMARY:Fish Hoek Wreck and back Paddle Series.... before the sun sets!
DESCRIPTION:
URL:https://supsa.org.za/event/fish-hoek-wreck-and-back-paddle-series-before-the-sun-sets/
LOCATION:Fish Hoek Beach Sports Club\, 3 Peter Creese Way\, Fish Hoek\, Western Cape\, 7995\, South Africa
END:VEVENT
BEGIN:VEVENT
DTSTART;VALUE=DATE:20210410
DTEND;VALUE=DATE:20210412
DTSTAMP:20260422T033514
CREATED:20210311T121250Z
LAST-MODIFIED:20210311T123600Z
UID:3892-1618012800-1618185599@supsa.org.za
SUMMARY:Fenn SA Surf Ski Champs
DESCRIPTION:YOU ARE INVITED!
URL:https://supsa.org.za/event/fenn-sa-surf-ski-champs/
LOCATION:Durban Bay DUC\, 79 Signal Rd\, Point\, Durban\, 4001\, Durban\, KwaZulu Natal\, 4001\, South Africa
END:VEVENT
BEGIN:VEVENT
DTSTART;VALUE=DATE:20210319
DTEND;VALUE=DATE:20210323
DTSTAMP:20260422T033514
CREATED:20210311T131344Z
LAST-MODIFIED:20210311T131344Z
UID:3899-1616112000-1616457599@supsa.org.za
SUMMARY:Lockdown Kite/SUP Classic 2021
DESCRIPTION:MOBE KITE/SUP CLASSIC 2021
URL:https://supsa.org.za/event/lockdown-kite-sup-classic-2021/
LOCATION:Hobie Beach\, Club Mykonos\, Langebaan\, Mykonos Access Road\, Langebaan\, Western Cape\, 7357\, South Africa
END:VEVENT
BEGIN:VEVENT
DTSTART;TZID=Europe/Helsinki:20210312T170000
DTEND;TZID=Europe/Helsinki:20210312T190000
DTSTAMP:20260422T033514
CREATED:20210311T134311Z
LAST-MODIFIED:20210311T134311Z
UID:3904-1615568400-1615575600@supsa.org.za
SUMMARY:Sea Dog Paddle Series
DESCRIPTION:
URL:https://supsa.org.za/event/sea-dog-paddle-series/
LOCATION:Fish Hoek Lifesaving Club\, Fish Hoek Surf Lifesaving Club\, Peter Creese Way\, Fish Hoek Beach\, Fish Hoek\, Western Province\, 7995\, South Africa
END:VEVENT
BEGIN:VEVENT
DTSTART;TZID=Europe/Helsinki:20201024T080000
DTEND;TZID=Europe/Helsinki:20201024T170000
DTSTAMP:20260422T033514
CREATED:20200906T193203Z
LAST-MODIFIED:20200906T193203Z
UID:3763-1603526400-1603558800@supsa.org.za
SUMMARY:Freedom Paddle 2020
DESCRIPTION:The Prescient Freedom Paddle is a 27km race / paddle from Oceana Power Boat Club around Robben Island and back. On the 24th October 2020\, line up and be a part of a race around one of the most iconic islands in the world.
URL:https://supsa.org.za/event/freedom-paddle-2020-2/
LOCATION:Oceana Power Boat Club\, Haul Rd\, Green Point\, Cape Town\, Western Cape\, 8005\, South Africa
END:VEVENT
BEGIN:VEVENT
DTSTART;TZID=Europe/Helsinki:20201010T080000
DTEND;TZID=Europe/Helsinki:20201012T170000
DTSTAMP:20260422T033514
CREATED:20200906T192312Z
LAST-MODIFIED:20200906T192312Z
UID:3755-1602316800-1602522000@supsa.org.za
SUMMARY:2020 SA Canoe Marathon & Surf Ski Champs
DESCRIPTION:St Francis Paddling Club is hard at work to put these events together in a very short time period\, so please bear with us. \nDates: \nSaturday 10 October 2020 \nSunday 11 October 2020 \nMonday 12 October 2020 \nThe Entries: \nOnline entries will be via https://paddler.canoesa.com \nEntries open: Monday 7 September 2020 at 8h00 \nEntries close: Wednesday 7 October 2020 at noon \nNo late entries or manual entries will be accepted \nRace organisers: \nNigel Harvey guff.harvey@hotmail.com ; Frank Baker frank@baker.org.za \nRace administrator: \nMarie Louw info@eccu.co.za
URL:https://supsa.org.za/event/2020-sa-canoe-marathon-surf-ski-champs/
LOCATION:St Francis\, Eastern Cape\, South Africa
END:VEVENT
BEGIN:VEVENT
DTSTART;TZID=Europe/Helsinki:20201004T080000
DTEND;TZID=Europe/Helsinki:20201004T170000
DTSTAMP:20260422T033514
CREATED:20200206T210655Z
LAST-MODIFIED:20200912T215214Z
UID:3572-1601798400-1601830800@supsa.org.za
SUMMARY:King Of The Bay 2020
DESCRIPTION:Great news! King of the Bay is back on. 4 October\, surfskis\, SUPs and Prone boards will be paddling their way in and out of the Durban harbour. Come join us for this iconic race. Make sure you are registered as a Canoeing SA SUP racer to take part. \nThank you for your patience\, understanding and working with use in these unprecedented times. \n 
URL:https://supsa.org.za/event/king-of-the-bay-2020/
LOCATION:Durban Bay DUC\, 79 Signal Rd\, Point\, Durban\, 4001\, Durban\, KwaZulu Natal\, 4001\, South Africa
CATEGORIES:SUP Racing Events,SUP Social Events
END:VEVENT
BEGIN:VEVENT
DTSTART;TZID=Europe/Helsinki:20200314T153000
DTEND;TZID=Europe/Helsinki:20200314T190000
DTSTAMP:20260422T033514
CREATED:20200309T133052Z
LAST-MODIFIED:20200309T220920Z
UID:3634-1584199800-1584212400@supsa.org.za
SUMMARY:Emmarentia Dabulamanzi HASSC 2020
DESCRIPTION:It is time for the annual Dabulamanzi High Altitude Surf Ski Champs where motorboats whiz around to make some waves. Surf ski’s and SUPs takes part in this fun race followed with dinner and a prize-giving to celebrate the fun in Emmarentia.  \nMake sure you join us on the water.
URL:https://supsa.org.za/event/emmarentia-dabulamanzi-hassc-2020/
LOCATION:Western Cape
CATEGORIES:SUP Racing Events
END:VEVENT
BEGIN:VEVENT
DTSTART;TZID=Europe/Helsinki:20200314T093000
DTEND;TZID=Europe/Helsinki:20200314T170000
DTSTAMP:20260422T033514
CREATED:20200206T210939Z
LAST-MODIFIED:20200206T211652Z
UID:3575-1584178200-1584205200@supsa.org.za
SUMMARY:Paddle For The Paw 2020
DESCRIPTION:
URL:https://supsa.org.za/event/paddle-for-the-paw-2020/
LOCATION:V&A Waterfront harbour
CATEGORIES:Non-sanctioned Events,SUP Social Events
END:VEVENT
BEGIN:VEVENT
DTSTART;TZID=Europe/Helsinki:20200301T130000
DTEND;TZID=Europe/Helsinki:20200301T160000
DTSTAMP:20260422T033514
CREATED:20200130T222422Z
LAST-MODIFIED:20200130T222422Z
UID:3565-1583067600-1583078400@supsa.org.za
SUMMARY:2020 SA Squad Selection & 2019 Annual Prize-giving
DESCRIPTION:
URL:https://supsa.org.za/event/2020-sa-squad-selection-2019-annual-prize-giving/
LOCATION:Century City\, Half Moon Bay\, Century City\, Cape Town\, Western Cape\, South Africa
ORGANIZER;CN="SUPSA":MAILTO:supsasecretary@gmail.com
END:VEVENT
BEGIN:VEVENT
DTSTART;TZID=Europe/Helsinki:20200301T090000
DTEND;TZID=Europe/Helsinki:20200301T140000
DTSTAMP:20260422T033514
CREATED:20200130T215657Z
LAST-MODIFIED:20200130T222118Z
UID:3535-1583053200-1583071200@supsa.org.za
SUMMARY:SUPSA Century City SUP & Paddleboard Challenge 2020
DESCRIPTION:
URL:https://supsa.org.za/event/supsa-century-city-sup-paddleboard-challenge-2020/
LOCATION:Century City\, Half Moon Bay\, Century City\, Cape Town\, Western Cape\, South Africa
CATEGORIES:SUP Racing Events,SUP Social Events,SUP Surfing Events,SUPSA Sanctioned Events
ORGANIZER;CN="SUPSA":MAILTO:supsasecretary@gmail.com
END:VEVENT
BEGIN:VEVENT
DTSTART;TZID=Europe/Helsinki:20200201T100000
DTEND;TZID=Europe/Helsinki:20200201T150000
DTSTAMP:20260422T033514
CREATED:20200130T222009Z
LAST-MODIFIED:20200130T222009Z
UID:3561-1580551200-1580569200@supsa.org.za
SUMMARY:West Coast Canoe Challenge
DESCRIPTION:Open for Stand-Up Paddlers to join.
URL:https://supsa.org.za/event/west-coast-canoe-challenge-2/
LOCATION:Riviera Hotel\, Velddrif\, 136 Voortrekker rd\, Velddrif\, Western Cape\, 7365\, South Africa
CATEGORIES:Non-sanctioned Events,SUP Racing Events,SUP Social Events
END:VEVENT
BEGIN:VEVENT
DTSTART;TZID=Europe/Helsinki:20191109T080000
DTEND;TZID=Europe/Helsinki:20191110T170000
DTSTAMP:20260422T033514
CREATED:20190128T111026Z
LAST-MODIFIED:20190627T134853Z
UID:2668-1573286400-1573405200@supsa.org.za
SUMMARY:Xpression Summer SUP Weekend
DESCRIPTION:
URL:https://supsa.org.za/event/xpression-summer-sup-weekend/
LOCATION:Xpression on the Beach CT\, 165 Main Road\, Muizenberg\, Western Cape\, 7945\, South Africa
CATEGORIES:SUP Racing Events,SUP Surfing Events,SUPSA Sanctioned Events
END:VEVENT
BEGIN:VEVENT
DTSTART;TZID=Europe/Helsinki:20190921T080000
DTEND;TZID=Europe/Helsinki:20190921T170000
DTSTAMP:20260422T033514
CREATED:20190128T110845Z
LAST-MODIFIED:20190627T134837Z
UID:2665-1569052800-1569085200@supsa.org.za
SUMMARY:Pili-Pili Whale Of A Race
DESCRIPTION:
URL:https://supsa.org.za/event/pili-pili-whale-of-a-race/
LOCATION:Western Cape\, Witsands
CATEGORIES:SUP Racing Events,SUPSA Sanctioned Events
END:VEVENT
BEGIN:VEVENT
DTSTART;TZID=Europe/Helsinki:20190825T080000
DTEND;TZID=Europe/Helsinki:20190825T170000
DTSTAMP:20260422T033514
CREATED:20191109T070054Z
LAST-MODIFIED:20190808T085442Z
UID:2901-1566720000-1566752400@supsa.org.za
SUMMARY:Battle of the Bay: The Fish Hoek Mile
DESCRIPTION:A sprint paddle across Fish Hoek Bay This paddling extravaganza of all crafts will be a first for paddlers\, but a continuation of the legendary ‘swimmers’ Fish Hoek Mile which has been hosted by FHSLC for decades. \nAnd just so that nobody feels left out\, we are incorporating a wetsuit optional swim across the Bay as well. Athletes will start in 15-minute interval waves from 09h00 with the swim as the final wave. \nWho can participate: – SINGLE SURF-SKIS: 2 x heats\, 1 x repo\, 1 x final – MIXED DOUBLE SKI: final – DOUBLE SURF-SKIS: final – PRONE PADDLE BOARDS: final – STAND UP PADDLE BOARDS: final – SWIMMERS: final \nThe divisions will include: – OPEN MEN & OPEN WOMEN: SKI / PRONE / SUP – MIXED DOUBLE: SKI – LEGENDS 45+: SKI / PRONE / SUP – DIVAS 45+: SKI / PRONE / SUP – JUNIOR BOYS & GIRLS UNDER 18: SKI / PRONE /SUP – SWIMMERS: OPEN MEN / WMN / JNR BOYS & GIRLS \n			\n			\n				\n				\n				\n				\n				\n				\n				\n				\n				\n				\n			\n			\n				\n				\n				\n				\n			\n				\n				\n				\n				\n				\n				\n				\n				\n				\n				\n				 You will register at the FISH HOEK BSC. \nEntry Fee: R100 pp per division. You can pre-register by downloading the entry form from the Facebook page. Limited Edition Cap or tee-shirt @ R150 \nFood truck\, coffee truck and beer sponsor. This is a GO GREEN event\, so come show your support. \nCan’t wait to get in\, on and next to the water!
URL:https://supsa.org.za/event/battle-of-the-bay-the-fish-hoek-mile/
LOCATION:Western Cape
CATEGORIES:Non-sanctioned Events,SUP Racing Events
END:VEVENT
BEGIN:VEVENT
DTSTART;TZID=Europe/Helsinki:20190824T080000
DTEND;TZID=Europe/Helsinki:20190824T170000
DTSTAMP:20260422T033514
CREATED:20190407T105109Z
LAST-MODIFIED:20190627T134809Z
UID:2738-1566633600-1566666000@supsa.org.za
SUMMARY:SUP Cape Town Waterfront Dash
DESCRIPTION:More information coming up! This SUPSA Sanctioned Event will take place in the Waterfront Canals in Cape Town on 24 August 2019. 
URL:https://supsa.org.za/event/sup-cape-town-waterfront-dash/
LOCATION:Cape Town\, Cape Town\, Cape Town\, Western Province\, South Africa
CATEGORIES:SUP Racing Events,SUPSA Sanctioned Events
END:VEVENT
BEGIN:VEVENT
DTSTART;TZID=Europe/Helsinki:20190810T080000
DTEND;TZID=Europe/Helsinki:20190811T170000
DTSTAMP:20260422T033514
CREATED:20190128T110454Z
LAST-MODIFIED:20190721T192716Z
UID:2659-1565424000-1565542800@supsa.org.za
SUMMARY:SUP Durbs Zinkwazi Race
DESCRIPTION:Zinkwazi\, hosted by SUPDurbs!\, will take place on the long weekend in August. Make sure you bring along your family and friends for a fun-filled weekend of paddling. With a social paddle on the Friday afternoon\, the Zinkwazi race on Saturday and a live music\, burger night thereafter. Make sure your accommodation is booked and board transportation organised\, and come join us in KZN.  \nThis is a SUPSA Sanctioned event – points count for your overall annual ranking.  \nSee you in the sunny KZN!  \n  \n  \n 
URL:https://supsa.org.za/event/starboard-zinkwazi-race/
LOCATION:KZN
CATEGORIES:SUP Racing Events,SUPSA Sanctioned Events
END:VEVENT
BEGIN:VEVENT
DTSTART;TZID=Europe/Helsinki:20190804T090000
DTEND;TZID=Europe/Helsinki:20190804T170000
DTSTAMP:20260422T033514
CREATED:20190128T110144Z
LAST-MODIFIED:20190721T194451Z
UID:2655-1564909200-1564938000@supsa.org.za
SUMMARY:King Of The Bay
DESCRIPTION:King of the Bay is moved and happening on the 4th of August. As great as always with harbour paddling\, we are excited to partake once again. This event is organised by the Stella Canoe club. Contact them for any enquiries. \nThis event is a SUPSA Sanctioned event and will count to your annual ranking.  \nSee you in KZN for an exciting race!  \n 
URL:https://supsa.org.za/event/king-of-the-bay-2/
LOCATION:Durban Bay DUC\, 79 Signal Rd\, Point\, Durban\, 4001\, Durban\, KwaZulu Natal\, 4001\, South Africa
CATEGORIES:SUP Racing Events,SUPSA Sanctioned Events
END:VEVENT
BEGIN:VEVENT
DTSTART;TZID=Europe/Helsinki:20190713T080000
DTEND;TZID=Europe/Helsinki:20190714T170000
DTSTAMP:20260422T033514
CREATED:20190128T111119Z
LAST-MODIFIED:20190627T134722Z
UID:2670-1563004800-1563123600@supsa.org.za
SUMMARY:Surfers Corner - SA SUP Championships
DESCRIPTION:Surfers Corner (Clothing & Accessories) presents SA SUP Championships 2019 Join us on 13 – 14 July 2019 in Muizenberg for some wave riding action. The divisions include OPEN LADIES & MEN; SOCIAL LADIES & MEN; LEGENDS & DIVAS; JUNIORS – BOYS & GIRLS; and OPEN FOIL \nEntries are R350 + R100 for an extra division. The entry form is available on the event page: entries close 30 June 2019. \n This is a SUPSA Sanctioned event.
URL:https://supsa.org.za/event/sa-sup-championships/
LOCATION:Xpression on the Beach CT\, 165 Main Road\, Muizenberg\, Western Cape\, 7945\, South Africa
CATEGORIES:SUP Surfing Events,SUPSA Sanctioned Events
END:VEVENT
BEGIN:VEVENT
DTSTART;TZID=Europe/Helsinki:20190530T190000
DTEND;TZID=Europe/Helsinki:20190530T203000
DTSTAMP:20260422T033514
CREATED:20190408T080019Z
LAST-MODIFIED:20190528T063858Z
UID:2741-1559242800-1559248200@supsa.org.za
SUMMARY:AGM 2019
DESCRIPTION:AGM 2019 The Annual General Meeting of Stand Up Paddling South Africa\n\nIn terms of the Constitution of Stand Up Paddling South Africa\, Notice of the Annual General Meeting of Stand Up Paddling South Africa is hereby given. \nThe AGM will take place at Bridge Café\, V&A Waterfront on Thursday 30 May 2019 at 7.00 pm. (Next door to Sup Cape Town) \nPlease note: If you are unable to attend please ensure that we receive your proxy vote as there is a requirement to have a 10 % quorum of members to hold an AGM. From experience it is difficult in practice to meet this requirement due to our large membership\, therefore your proxy is vital.  You can select anyone that may be attending the AGM to hold your proxy vote e.g. an existing National Committee or Board member or a SUPSA member who will be attending. \nNB! Committee Nomination forms and any proposed new agenda items should be forwarded to dave@lovemore.co by no later than 5 pm on Friday 24 May 2019. All proxy votes and apologies need to be forwarded to the same email address by no later than 12 pm on Thursday May 30th. \nPlease note that there is a time trial at SUP Cape Town at 6 pm and members are invited to participate prior to attending the AGM. A meal menu will be available during the AGM at a cost of R75 per main course. Although soft drinks will be available\, The Bridge Café is not licensed so members may bring their own alcoholic drinks. \nFind the 2019 AGM Agenda\, 2019 Proxy Vote Form and 2019 Board Nominee Form here. Or contact supsasecretary@gmail.com for the forms or any other enquiries.  \nYou can find the 2018 President’s Report and AGM 2018 minutes\, here. 
URL:https://supsa.org.za/event/agm-2019/
LOCATION:Cape Town\, Cape Town\, Cape Town\, Western Province\, South Africa
END:VEVENT
BEGIN:VEVENT
DTSTART;TZID=Europe/Helsinki:20190518T100000
DTEND;TZID=Europe/Helsinki:20190518T143000
DTSTAMP:20260422T033514
CREATED:20190407T105306Z
LAST-MODIFIED:20190407T105306Z
UID:2730-1558173600-1558189800@supsa.org.za
SUMMARY:SUPSA presents 2018 Annual Prize-giving
DESCRIPTION:Join us for a Paddle\, Braai and our Annual Prize-giving to acknowledge and celebrate 2018’s wins. Remember to bring your own meat/ food to braai (salads will be catered for)\, your board and pfd. \nSee you at 10am for the paddle at the Oceana Power Boat Club (Next to the Grand on the Beach Restaurant in Granger Bay). \nMore information will be shared\, shortly. \n 
URL:https://supsa.org.za/event/supsa-presents-2018-annual-prize-giving/
LOCATION:Oceana Power Boat Club\, Hal Road\, Granger Bay\, Cape Town\, Western Cape\, South Africa
END:VEVENT
BEGIN:VEVENT
DTSTART;TZID=Europe/Helsinki:20190303T080000
DTEND;TZID=Europe/Helsinki:20190303T170000
DTSTAMP:20260422T033514
CREATED:20190128T110051Z
LAST-MODIFIED:20190128T110051Z
UID:2653-1551600000-1551632400@supsa.org.za
SUMMARY:Signature Century City SUP Challenge
DESCRIPTION:
URL:https://supsa.org.za/event/signature-century-city-sup-challenge/
LOCATION:Cape Town\, Cape Town\, Cape Town\, Western Province\, South Africa
END:VEVENT
END:VCALENDAR