BEGIN:VCALENDAR
VERSION:2.0
PRODID:-//SUPSA.org.za - ECPv6.15.20//NONSGML v1.0//EN
CALSCALE:GREGORIAN
METHOD:PUBLISH
X-WR-CALNAME:SUPSA.org.za
X-ORIGINAL-URL:https://supsa.org.za
X-WR-CALDESC:Events for SUPSA.org.za
REFRESH-INTERVAL;VALUE=DURATION:PT1H
X-Robots-Tag:noindex
X-PUBLISHED-TTL:PT1H
BEGIN:VTIMEZONE
TZID:Europe/Helsinki
BEGIN:DAYLIGHT
TZOFFSETFROM:+0200
TZOFFSETTO:+0300
TZNAME:EEST
DTSTART:20220327T010000
END:DAYLIGHT
BEGIN:STANDARD
TZOFFSETFROM:+0300
TZOFFSETTO:+0200
TZNAME:EET
DTSTART:20221030T010000
END:STANDARD
BEGIN:DAYLIGHT
TZOFFSETFROM:+0200
TZOFFSETTO:+0300
TZNAME:EEST
DTSTART:20230326T010000
END:DAYLIGHT
BEGIN:STANDARD
TZOFFSETFROM:+0300
TZOFFSETTO:+0200
TZNAME:EET
DTSTART:20231029T010000
END:STANDARD
BEGIN:DAYLIGHT
TZOFFSETFROM:+0200
TZOFFSETTO:+0300
TZNAME:EEST
DTSTART:20240331T010000
END:DAYLIGHT
BEGIN:STANDARD
TZOFFSETFROM:+0300
TZOFFSETTO:+0200
TZNAME:EET
DTSTART:20241027T010000
END:STANDARD
BEGIN:DAYLIGHT
TZOFFSETFROM:+0200
TZOFFSETTO:+0300
TZNAME:EEST
DTSTART:20250330T010000
END:DAYLIGHT
BEGIN:STANDARD
TZOFFSETFROM:+0300
TZOFFSETTO:+0200
TZNAME:EET
DTSTART:20251026T010000
END:STANDARD
BEGIN:DAYLIGHT
TZOFFSETFROM:+0200
TZOFFSETTO:+0300
TZNAME:EEST
DTSTART:20260329T010000
END:DAYLIGHT
BEGIN:STANDARD
TZOFFSETFROM:+0300
TZOFFSETTO:+0200
TZNAME:EET
DTSTART:20261025T010000
END:STANDARD
END:VTIMEZONE
BEGIN:VEVENT
DTSTART;TZID=Europe/Helsinki:20250302T130000
DTEND;TZID=Europe/Helsinki:20250302T153000
DTSTAMP:20260419T152829
CREATED:20250122T160721Z
LAST-MODIFIED:20250225T151528Z
UID:10156-1740920400-1740929400@supsa.org.za
SUMMARY:Century City Sports Festival - SUP SESSION
DESCRIPTION:We will be changing the pace of the Century City SUP DASH! Choose between \n\na lazy Sunday afternoon 3km social paddle OR\na 5km time trial event for the regular speed freaks.\n\nBring your family and friends along and let them try it too! \nDo join us with your board on Sunday 2nd March from 1-3pm\, at Half Moon Bay in Century City for some blissful time on the water. (Parking at Manhattan suites on Esplanade road\, just off Century Way – see map link below.) \nIf you want to learn and need a board\, please select that option on the form\, and we will do our best to assist you. \nSign up at the link below. No entry fee! \n			\n				REGISTER HERE
URL:https://supsa.org.za/event/century-city-sports-festival-sup-session/
LOCATION:Century City\, Half Moon Bay\, Century City\, Cape Town\, Western Cape\, South Africa
ATTACH;FMTTYPE=image/jpeg:https://supsa.org.za/wp-content/uploads/2025/01/CC-Paddlers.jpg
ORGANIZER;CN="SUPSA":MAILTO:supsasecretary@gmail.com
END:VEVENT
BEGIN:VEVENT
DTSTART;TZID=Europe/Helsinki:20250209T074500
DTEND;TZID=Europe/Helsinki:20250209T120000
DTSTAMP:20260419T152829
CREATED:20250114T165320Z
LAST-MODIFIED:20250114T165421Z
UID:10109-1739087100-1739102400@supsa.org.za
SUMMARY:THE CLIFTON CHALLENGE
DESCRIPTION:Date: 9th Feb 2025 \nPlace: Oceana Power Boat Club \nRegistration: 7:45 – 8:45 am \nBriefing: 8:30 \nRace Start: 9 am \n\n\n\n\n\n\nDistance: 16 km Long Course open to Surf Ski only (due to time limitations we sadly cannot accomodate SUP and prone paddlers for the long course) \n8 km Short Surf Ski – Sup\, Prone/Malibu board Lap Race. \nRequirements: PFD – Leash – Cellphone with SafeTrtx required. Prone / Malibu paddlers do not require a PFD. \nEntrants must be CSA registered & “surfski” level proficiency or be SA Lifesaving registered with a JLA or above for the lifesaving disciplines. \nEntry fees:  \nLong Course – R200\,  Juniors R120 \nShort Course – R120\, Juniors R100 \nEnter via the website link below (before 8th Feb 2025):
URL:https://supsa.org.za/event/the-clifton-challenge-2025/
LOCATION:Oceana Power Boat Club\, Haul Rd\, Green Point\, Cape Town\, Western Cape\, 8005\, South Africa
ATTACH;FMTTYPE=image/jpeg:https://supsa.org.za/wp-content/uploads/2025/01/Clifton-Challenge-2025.jpg
END:VEVENT
BEGIN:VEVENT
DTSTART;TZID=Europe/Helsinki:20250201T100000
DTEND;TZID=Europe/Helsinki:20250201T140000
DTSTAMP:20260419T152829
CREATED:20250109T130028Z
LAST-MODIFIED:20250109T132258Z
UID:10093-1738404000-1738418400@supsa.org.za
SUMMARY:WEST COAST CANOE CHALLENGE
DESCRIPTION:Entry fees are R150 for seniors\, R70 for juniors. \nYou will need a CSA licence to enter. \nPFD’s and swimming ability are required! \nOptions are a 5km fun paddle\, 10 / 20km challenges or the official SUPSA-sanctioned 16km race! \nCLOSING DATE IS 31 JAN!!! \n(Get on it now via the CSA paddler webpage link below.)
URL:https://supsa.org.za/event/west-coast-canoe-challenge-2025/
LOCATION:Riviera Hotel\, Velddrif\, 136 Voortrekker rd\, Velddrif\, Western Cape\, 7365\, South Africa
ATTACH;FMTTYPE=image/png:https://supsa.org.za/wp-content/uploads/2025/01/WCCC-2-FEB.png
ORGANIZER;CN="Paddlesports South Africa PSA":MAILTO:https://paddlesportsa.co.za/contact-us/
END:VEVENT
BEGIN:VEVENT
DTSTART;VALUE=DATE:20241119
DTEND;VALUE=DATE:20241125
DTSTAMP:20260419T152829
CREATED:20240215T142457Z
LAST-MODIFIED:20240215T144157Z
UID:9363-1731974400-1732492799@supsa.org.za
SUMMARY:ICF WORLD CHAMPIONSHIPS
DESCRIPTION:Heading to Sarasota\, Florida in the USA for this year’s ICF competition. \nAthletes\, get ready!
URL:https://supsa.org.za/event/icf-world-championships/
LOCATION:Western Cape
ATTACH;FMTTYPE=image/png:https://supsa.org.za/wp-content/uploads/2024/02/2024-ICF-SUP-CHAMPS.png
END:VEVENT
BEGIN:VEVENT
DTSTART;TZID=Europe/Helsinki:20241109T090000
DTEND;TZID=Europe/Helsinki:20241109T110000
DTSTAMP:20260419T152829
CREATED:20241030T164504Z
LAST-MODIFIED:20241030T164618Z
UID:9813-1731142800-1731150000@supsa.org.za
SUMMARY:SUP CLINIC
DESCRIPTION:on Join us for a SUP CLINIC with our world champs Tarryn King and Cameron Tripney before they head off to World Champs in Sarasota\, USA! \n– Learn specialised tips and techniques– improve your paddling– start off well if you are a beginner \nBoards can be hired from SUP CT at a fee of R150 if needed! \nClinic cost R200Saturday 9th Nov from 9am – 11am \nVenue – SUP CAPE TOWN\, BATTERY PARK\, V&A WATERFRONT \n\n\nRegister below (and book your equipment if needed.)\nPay below – R200 for clinic only\, or add on the R150 rental fee if you need a board and paddle.\n			\n				REGISTER NOW! \n			\n				\n				\n				\n				\n				\n\n\n\n\n\n\nAmount:
URL:https://supsa.org.za/event/sup-clinic-at-sup-cape-town/
LOCATION:SUP Cape Town\, Cape Town\, South Africa
ATTACH;FMTTYPE=image/jpeg:https://supsa.org.za/wp-content/uploads/2024/10/WhatsApp-Image-2024-10-29-at-23.18.46.jpeg
ORGANIZER;CN="SUPSA":MAILTO:supsasecretary@gmail.com
END:VEVENT
BEGIN:VEVENT
DTSTART;VALUE=DATE:20240916
DTEND;VALUE=DATE:20240925
DTSTAMP:20260419T152829
CREATED:20240215T142228Z
LAST-MODIFIED:20240215T143139Z
UID:9361-1726444800-1727222399@supsa.org.za
SUMMARY:ISA SUP & PADDLEBOARD CHAMPIONSHIP
DESCRIPTION:This is the one our SUP SURFERS aim for! International competition at its best. \nHave you got what it takes?
URL:https://supsa.org.za/event/isa-sup-paddleboard-championship/
LOCATION:Western Cape
ATTACH;FMTTYPE=image/jpeg:https://supsa.org.za/wp-content/uploads/2022/06/ISA-logo-e1687865355462.jpeg
END:VEVENT
BEGIN:VEVENT
DTSTART;VALUE=DATE:20240914
DTEND;VALUE=DATE:20240916
DTSTAMP:20260419T152829
CREATED:20230108T193253Z
LAST-MODIFIED:20230901T131810Z
UID:8322-1726272000-1726444799@supsa.org.za
SUMMARY:PILI PILI KARATARA TO COAST
DESCRIPTION:A new addition to our SUP venues\, in Sedgefield – along the beautiful Garden Route! \nAwaiting details…..
URL:https://supsa.org.za/event/pili-pili-karatara-to-coast/
LOCATION:Pili Pili Sedgefield\, 2 Claude Urban Drive\, Myoli Beach\, Sedgefield\, 6573\, South Africa
END:VEVENT
BEGIN:VEVENT
DTSTART;VALUE=DATE:20240726
DTEND;VALUE=DATE:20240729
DTSTAMP:20260419T152829
CREATED:20240215T141419Z
LAST-MODIFIED:20240313T091957Z
UID:9353-1721952000-1722211199@supsa.org.za
SUMMARY:KING & QUEEN OF THE BAY
DESCRIPTION:Follow on Insta for updated details…. \nEvent organisers
URL:https://supsa.org.za/event/king-queen-of-the-bay/
LOCATION:Queensberry Bay\, EL
ATTACH;FMTTYPE=image/jpeg:https://supsa.org.za/wp-content/uploads/2024/02/KQotb.jpg
END:VEVENT
BEGIN:VEVENT
DTSTART;VALUE=DATE:20240706
DTEND;VALUE=DATE:20240708
DTSTAMP:20260419T152829
CREATED:20240624T101513Z
LAST-MODIFIED:20240703T075325Z
UID:9556-1720224000-1720396799@supsa.org.za
SUMMARY:WINTER WARRIOR SUP CLINIC
DESCRIPTION:Join us for a ONCE-OFF SUP CLINIC with our world champs Tarryn King and Cameron Tripney! \n– Learn specialised tips and techniques– improve your paddling– start off well if you are a beginner \nBoards can be hired from SUP CT at a separate cost if needed! \nClinic cost R100Saturday 29th June from 10am – 12pm \nVenue – SUP CAPE TOWN\, BATTERY PARK\, V&A WATERFRONT\n \n			\n				REGISTER NOW!
URL:https://supsa.org.za/event/winter-warrior-sup-clinic/
LOCATION:SUP Cape Town\, Cape Town\, South Africa
ATTACH;FMTTYPE=image/jpeg:https://supsa.org.za/wp-content/uploads/2024/06/WhatsApp-Image-2024-06-24-at-12.31.22.jpeg
ORGANIZER;CN="SUPSA":MAILTO:supsasecretary@gmail.com
END:VEVENT
BEGIN:VEVENT
DTSTART;VALUE=DATE:20240623
DTEND;VALUE=DATE:20240624
DTSTAMP:20260419T152829
CREATED:20240220T121706Z
LAST-MODIFIED:20240220T122309Z
UID:9381-1719100800-1719187199@supsa.org.za
SUMMARY:BAY UNION KING OF THE BAY
DESCRIPTION:Details coming soon!
URL:https://supsa.org.za/event/king-of-the-bay-4/
LOCATION:Stella Canoe Club\, Wilson Wharf\, 3 Maritime Pl\, Durban Central\, Durban\, KwaZulu Natal\, 4001\, South Africa
ATTACH;FMTTYPE=image/jpeg:https://supsa.org.za/wp-content/uploads/2024/02/KOTB-FB.jpeg
END:VEVENT
BEGIN:VEVENT
DTSTART;TZID=Europe/Helsinki:20240622T090000
DTEND;TZID=Europe/Helsinki:20240623T150000
DTSTAMP:20260419T152829
CREATED:20240215T141603Z
LAST-MODIFIED:20240618T142919Z
UID:9355-1719046800-1719154800@supsa.org.za
SUMMARY:BERG & VLEI SUP CLASSIC
DESCRIPTION:Join us for a celebration of all the SUP disciplines: surfing\, long distance and technical racing. \n\nSaturday 22nd sees us at Muizenberg beach for the surf heats from 9am.\nSunday 23rd will find us at Zandvlei for a flat water long distance race and a technical course too!\n\nDistances to be found on the registration form at the following link: \nhttps://forms.gle/g8CrkPzy3J9GsKTr5 \n			\n			\n				\n				\n				\n				\n			\n				\n				\n				\n				\n				\n				\n				\n				\n				\n				\n				Pay for your entries\nPlease check the amount in the box below or change the amount to your total entry cost: \n\nSUP Surf only: R250\nFUN Ins & Outs – no charge\nLong distance only: R150\nTechnical only: R150\nBeginner wave only: R50\nLong distance & Technical : R250\nSurf\, Distance & Technical : R400\n\n			\n			\n				\n				\n				\n				\n			\n				\n				\n				\n				\n				\n				\n				\n				\n				\n				\n				\n\n\n\n\n\n\nAmount:
URL:https://supsa.org.za/event/berg-vlei-sup-classic/
LOCATION:Muizenberg Beach\, 56 Beach Road\, Muizenberg\, Western Cape\, 7950\, South Africa
ATTACH;FMTTYPE=image/jpeg:https://supsa.org.za/wp-content/uploads/2024/02/BERG-VLEI-SUP-CLASSIC.jpg
ORGANIZER;CN="SUPSA":MAILTO:supsasecretary@gmail.com
END:VEVENT
BEGIN:VEVENT
DTSTART;VALUE=DATE:20240525
DTEND;VALUE=DATE:20240527
DTSTAMP:20260419T152829
CREATED:20240215T141324Z
LAST-MODIFIED:20240215T141324Z
UID:9351-1716595200-1716767999@supsa.org.za
SUMMARY:EAST COAST CLASSIC
DESCRIPTION:DETAILS COMING SOON!
URL:https://supsa.org.za/event/east-coast-classic-2/
LOCATION:Western Cape
END:VEVENT
BEGIN:VEVENT
DTSTART;VALUE=DATE:20240427
DTEND;VALUE=DATE:20240428
DTSTAMP:20260419T152829
CREATED:20240116T124425Z
LAST-MODIFIED:20240125T143120Z
UID:9270-1714176000-1714262399@supsa.org.za
SUMMARY:Prescient Freedom Paddle
DESCRIPTION:An iconic race around Robben Island\, with a shorter coastal option for the lesser mortals! \nEntries are open via the website below.
URL:https://supsa.org.za/event/prescient-freedom-paddle-2/
LOCATION:Oceana Power Boat Club\, Haul Rd\, Green Point\, Cape Town\, Western Cape\, 8005\, South Africa
ATTACH;FMTTYPE=image/png:https://supsa.org.za/wp-content/uploads/2024/01/Screenshot-2024-01-16-at-14.43.31.png
END:VEVENT
BEGIN:VEVENT
DTSTART;TZID=Europe/Helsinki:20240413T140000
DTEND;TZID=Europe/Helsinki:20240413T170000
DTSTAMP:20260419T152829
CREATED:20240215T140851Z
LAST-MODIFIED:20240307T150300Z
UID:9345-1713016800-1713027600@supsa.org.za
SUMMARY:HIGH ALTITUDE SURF SKI RACE
DESCRIPTION:Enjoy the inland version of wave riding  – high altitude fun for SUPS and skis! \n 
URL:https://supsa.org.za/event/high-altitude-surf-ski-race/
LOCATION:Dabulamanzi Canoe Club\, Emmarentia Dam\, Louw Geldenhuys dr.\, Emmarentia\, Gauteng\, 2195\, South Africa
ATTACH;FMTTYPE=image/jpeg:https://supsa.org.za/wp-content/uploads/2024/02/HASSC-2024.jpg
END:VEVENT
BEGIN:VEVENT
DTSTART;TZID=Europe/Helsinki:20240317T080000
DTEND;TZID=Europe/Helsinki:20240317T110000
DTSTAMP:20260419T152829
CREATED:20240314T081231Z
LAST-MODIFIED:20240314T081231Z
UID:9426-1710662400-1710673200@supsa.org.za
SUMMARY:Chapman's Challenge
DESCRIPTION:The Freedom Paddlers are offering a great race in Hout Bay:  \nDistance:  8 km Short Surf Ski – Sup\, Prone/Malibu board Lap Race. \nRequirements: PFD – Leash – Cellphone with SafeTrtx required. Prone / Malibu paddlers do not require a PFD. \nEntrants must be CSA registered & “surfski” level proficiency or be SA Lifesaving registered with a JLA or above for the lifesaving disciplines. \nEntry fees:  \nLong Course – R200\,  Juniors R120 \nShort Course – R120\, Juniors R100
URL:https://supsa.org.za/event/chapmans-challenge/
LOCATION:Hout Bay\, Beach Road\, Hout Bay\, Western Cape\, 7975\, South Africa
ATTACH;FMTTYPE=image/jpeg:https://supsa.org.za/wp-content/uploads/2024/03/THE-CHAPMANS-CHALLENGE.jpg
END:VEVENT
BEGIN:VEVENT
DTSTART;TZID=Europe/Helsinki:20240303T130000
DTEND;TZID=Europe/Helsinki:20240303T170000
DTSTAMP:20260419T152829
CREATED:20240116T123620Z
LAST-MODIFIED:20240223T113540Z
UID:9266-1709470800-1709485200@supsa.org.za
SUMMARY:Century City Sports Festival
DESCRIPTION:Join us for some SUP fun on the canals at Century City’s fabulous sports festival weekend! \nNever paddled? Come and try it out with some SUP CT instructors during the social session. \nFREE ENTRY!  \nClick the button to register: \n			\n				REGISTER HERE:
URL:https://supsa.org.za/event/century-city-sports-festival/
LOCATION:Century City\, Half Moon Bay\, Century City\, Cape Town\, Western Cape\, South Africa
ATTACH;FMTTYPE=image/png:https://supsa.org.za/wp-content/uploads/2024/01/CCSF-SUP-2024-Poster.png
ORGANIZER;CN="SUPSA":MAILTO:supsasecretary@gmail.com
END:VEVENT
BEGIN:VEVENT
DTSTART;TZID=Europe/Helsinki:20240216T173000
DTEND;TZID=Europe/Helsinki:20240216T193000
DTSTAMP:20260419T152829
CREATED:20240125T141419Z
LAST-MODIFIED:20240210T093357Z
UID:9283-1708104600-1708111800@supsa.org.za
SUMMARY:Seadog Paddle Series
DESCRIPTION:2024 SEASON DATES\n\n\n\n\nJan 12 / 19 / 26 –\nFeb 2 / 9 / 16 / 23 –\nMar 1 / 8 / 15
URL:https://supsa.org.za/event/seadog-paddle-series/
LOCATION:Fish Hoek Lifesaving Club\, Fish Hoek Surf Lifesaving Club\, Peter Creese Way\, Fish Hoek Beach\, Fish Hoek\, Western Province\, 7995\, South Africa
ATTACH;FMTTYPE=image/png:https://supsa.org.za/wp-content/uploads/2021/09/sea-dog-logo-.png
END:VEVENT
BEGIN:VEVENT
DTSTART;TZID=Europe/Helsinki:20240204T080000
DTEND;TZID=Europe/Helsinki:20240204T140000
DTSTAMP:20260419T152829
CREATED:20240116T122926Z
LAST-MODIFIED:20240116T122926Z
UID:9260-1707033600-1707055200@supsa.org.za
SUMMARY:PRESCIENT OCEANA CLIFTON CHALLENGE
DESCRIPTION:SUPS and prone boards are invited to join in on a beautiful paddle from the waterfront harbour towards Clifton and back. (Alternative Granger Bay route also under consideration) \n7km short course for sups & prones R120 / juniors R100 \nLonger course for skis only. \nEntries on Freedom Paddlers’ website below. \nEntries close at 12pm on 3rd February 2024.
URL:https://supsa.org.za/event/prescient-oceana-clifton-challenge-2/
LOCATION:Oceana Power Boat Club\, Haul Rd\, Green Point\, Cape Town\, Western Cape\, 8005\, South Africa
ATTACH;FMTTYPE=image/jpeg:https://supsa.org.za/wp-content/uploads/2024/01/Oceana-Clifton-challenge.jpg
END:VEVENT
BEGIN:VEVENT
DTSTART;TZID=Europe/Helsinki:20240127T100000
DTEND;TZID=Europe/Helsinki:20240127T170000
DTSTAMP:20260419T152829
CREATED:20240116T112751Z
LAST-MODIFIED:20240116T112751Z
UID:9249-1706349600-1706374800@supsa.org.za
SUMMARY:West Coast Challenge
DESCRIPTION:ONLINE ENTRIES are now OPEN for the annual APPLIANCE WORLD WEST COAST CANOE CHALLENGE. ( 27 JAN 2024). \n\n5 or 10km novice flat water paddle starting in front of the Riviera Hotel.\n16/20km SUPSA National Race to follow shortly after.\n\nWonderful prizes and medals at the Prize Giving afterwards – experience the West Coast “gees”. \nPFDs are compulsory! \nEntry fee: R150 Seniors / R70 Juniors / students \n* If you are a registered paddler with CSA ( Canoeing SA) then you know by this time how to get your online entry in.\n** But if you are not registered then you have to follow this link NON-CSA member entries\nIt is an easy and fast process.
URL:https://supsa.org.za/event/west-coast-challenge/
LOCATION:Riviera Hotel\, Velddrif\, 136 Voortrekker rd\, Velddrif\, Western Cape\, 7365\, South Africa
ATTACH;FMTTYPE=image/jpeg:https://supsa.org.za/wp-content/uploads/2024/01/West-Coast-Challenge.jpeg
ORGANIZER;CN="Paddlesports South Africa PSA":MAILTO:https://paddlesportsa.co.za/contact-us/
END:VEVENT
BEGIN:VEVENT
DTSTART;VALUE=DATE:20231125
DTEND;VALUE=DATE:20231127
DTSTAMP:20260419T152829
CREATED:20230106T195546Z
LAST-MODIFIED:20230108T193449Z
UID:8328-1700870400-1701043199@supsa.org.za
SUMMARY:SUP MAVERICKS VS YOUNG GUNS - RACE 2
DESCRIPTION:Here they go again – young vs old\, experienced vs newbies….. \nLet the South-easter blow!
URL:https://supsa.org.za/event/sup-mavericks-vs-young-guns-race-2/
LOCATION:Fish Hoek Beach Sports Club\, 3 Peter Creese Way\, Fish Hoek\, Western Cape\, 7995\, South Africa
END:VEVENT
BEGIN:VEVENT
DTSTART;VALUE=DATE:20231115
DTEND;VALUE=DATE:20231120
DTSTAMP:20260419T152829
CREATED:20230106T195543Z
LAST-MODIFIED:20230214T145857Z
UID:8330-1700006400-1700438399@supsa.org.za
SUMMARY:ICF WORLD SUP CHAMPIONSHIPS
DESCRIPTION:The world’s best will be paddling the balmy waters of Pattaya\, Thailand this year…. \nAre you up for it? \n 
URL:https://supsa.org.za/event/__trashed/
LOCATION:Pattaya\, Thailand\, Pattaya\, Thailand
ATTACH;FMTTYPE=image/png:https://supsa.org.za/wp-content/uploads/2023/01/ICF-logo.png
END:VEVENT
BEGIN:VEVENT
DTSTART;VALUE=DATE:20231021
DTEND;VALUE=DATE:20231023
DTSTAMP:20260419T152829
CREATED:20230108T193326Z
LAST-MODIFIED:20230108T193326Z
UID:8325-1697846400-1698019199@supsa.org.za
SUMMARY:SUP MAVERICKS VS YOUNG GUNS RACE 1
DESCRIPTION:The Downwind struggle continues between the SUP Mavericks and the Young Guns. \nWatching the wind to see if we are on!…….
URL:https://supsa.org.za/event/sup-mavericks-vs-young-guns-race-1/
LOCATION:Fish Hoek Beach Sports Club\, 3 Peter Creese Way\, Fish Hoek\, Western Cape\, 7995\, South Africa
END:VEVENT
BEGIN:VEVENT
DTSTART;TZID=Europe/Helsinki:20230924T080000
DTEND;TZID=Europe/Helsinki:20231001T170000
DTSTAMP:20260419T152829
CREATED:20230901T132057Z
LAST-MODIFIED:20230901T132057Z
UID:9141-1695542400-1696179600@supsa.org.za
SUMMARY:ISA SUP & PADDLEBOARD WORLD CHAMPIONSHIPS
DESCRIPTION:
URL:https://supsa.org.za/event/isa-sup-paddleboard-world-championships/
LOCATION:Western Cape
END:VEVENT
BEGIN:VEVENT
DTSTART;VALUE=DATE:20230916
DTEND;VALUE=DATE:20230917
DTSTAMP:20260419T152829
CREATED:20230108T193205Z
LAST-MODIFIED:20230908T143156Z
UID:8320-1694822400-1694908799@supsa.org.za
SUMMARY:OLYMPIC WAVE CLASSIC PRESENTED BY RACEFOOD
DESCRIPTION:Always a good vibe for SUP SURF  paddleboarding at Muizies! \nJoin us! \nEnter here: https://forms.gle/5PpasojVo2dTLLRu6 \nPayment details below: (Enter amount as per your categories chosen) \nPlease pay after registering your entry. \n			\n				\n				\n				\n				\n				\n\n\n\n\n\n\nAmount:
URL:https://supsa.org.za/event/olympic-wave-classic/
LOCATION:Muizenberg Civic Centre (The Pavilion)\, Beach road\, Muizenberg\, Cape Town\, 7945\, South Africa
ATTACH;FMTTYPE=image/png:https://supsa.org.za/wp-content/uploads/2023/01/WAVE-CLASSIC-1.png
END:VEVENT
BEGIN:VEVENT
DTSTART;TZID=Europe/Helsinki:20230701T083000
DTEND;TZID=Europe/Helsinki:20230702T120000
DTSTAMP:20260419T152830
CREATED:20230613T123528Z
LAST-MODIFIED:20230630T175347Z
UID:8957-1688200200-1688299200@supsa.org.za
SUMMARY:OLYMPIC SUP SHOOTOUT SERIES
DESCRIPTION:Join us under the banner of Olympic South Africa\, as they sponsor our winter SUP Shootout Series. Two days of Stand up Paddle-boarding skills on display – entry is open to everybody! \nFor advanced paddlers\, these results will count towards the ICF SA SUP Team Selection. \nDay one – Saturday – a 1km Technical course as well as a 200m Sprint session. (For the Socialites: a 500m Technical course and 100m sprint will also be held.) \nDay two – Sunday – join the NSRI lighthouse fundraiser for a short 5km social distance or a longer 16km paddle for the advanced paddlers. Starts at Fish Hoek Beach Sports Club and will go to the Glencairn Wreck and back.  \n1. REGISTRATION:  \nClick the button below to register on Webscorer for day one.  \nPlease tick the boxes on the landing page to pre-select your events! \n			\n				\n				\n				\n				\n				Click here to register\n			\n			\n				\n				\n				\n				\n			\n				\n				\n				\n				\n				\n				\n				\n				\n				\n				\n				2. PAYMENT:  \nPlease pay in cash on Saturday for Sprint / Technical: \n(R100 for 1 event – R200 for 2 events ) \nPlease pay the NSRI directly to enter the distance race: \nhttps://www.quicket.co.za/events/222283-lighthouse-fundraiser-ocean-event-for-nsri/#/
URL:https://supsa.org.za/event/olympic-sup-shootout-series/
LOCATION:Peninsula Canoe club\, Zandvlei\, Muizenberg\, 1 Promenade Road\, Lakeside\, MUIZENBERG\, Western Cape\, 7945\, South Africa
ATTACH;FMTTYPE=image/jpeg:https://supsa.org.za/wp-content/uploads/2023/06/SUP-SHOOTOUT-e1687772544734.jpeg
ORGANIZER;CN="SUPSA":MAILTO:supsasecretary@gmail.com
END:VEVENT
BEGIN:VEVENT
DTSTART;VALUE=DATE:20230625
DTEND;VALUE=DATE:20230626
DTSTAMP:20260419T152830
CREATED:20221215T103042Z
LAST-MODIFIED:20230502T105903Z
UID:8313-1687651200-1687737599@supsa.org.za
SUMMARY:KING OF THE BAY (DURBAN)
DESCRIPTION:An option to paddle in harbour waters among the giant vessels! Let’s go! \nDetails to be published when released…..
URL:https://supsa.org.za/event/king-of-the-bay-durban/
LOCATION:Stella Canoe Club\, Wilson Wharf\, 3 Maritime Pl\, Durban Central\, Durban\, KwaZulu Natal\, 4001\, South Africa
END:VEVENT
BEGIN:VEVENT
DTSTART;VALUE=DATE:20230615
DTEND;VALUE=DATE:20230619
DTSTAMP:20260419T152830
CREATED:20221215T103720Z
LAST-MODIFIED:20230108T193128Z
UID:8315-1686787200-1687132799@supsa.org.za
SUMMARY:ANNUAL KING & QUEEN OF THE BAY (EL)
DESCRIPTION:Who will rule over the waves on this day? \nDetails to follow……..
URL:https://supsa.org.za/event/annual-king-queen-of-the-bay-el/
LOCATION:East London\, 5200\, South Africa
END:VEVENT
BEGIN:VEVENT
DTSTART;VALUE=DATE:20230527
DTEND;VALUE=DATE:20230529
DTSTAMP:20260419T152830
CREATED:20230108T193041Z
LAST-MODIFIED:20230502T120228Z
UID:8311-1685145600-1685318399@supsa.org.za
SUMMARY:EAST COAST CLASSIC
DESCRIPTION:Let’s hit Durban’s North Beach for a taste of warm water SUP SURF fun\, or join the SUP racers dashing down to Point Beach! \nThere are surfing\, racing and ins & outs to be enjoyed – why wait? \nAll entry details available on the organiser’s website: \nhttp://www.supdurbs.co.za/pages/20008/east-coast-classic-2023
URL:https://supsa.org.za/event/east-coast-classic/
LOCATION:KZN
ATTACH;FMTTYPE=image/png:https://supsa.org.za/wp-content/uploads/2023/01/Screenshot-2023-05-02-at-13.46.08.png
END:VEVENT
BEGIN:VEVENT
DTSTART;VALUE=DATE:20230427
DTEND;VALUE=DATE:20230428
DTSTAMP:20260419T152830
CREATED:20230108T193009Z
LAST-MODIFIED:20230228T134713Z
UID:8308-1682553600-1682639999@supsa.org.za
SUMMARY:FREEDOM PADDLE 2023
DESCRIPTION:The iconic paddle in the fairest Cape of all! \nWho will brave the full distance this year? A shorter 10km course will be available too. \nSee the link to the official website below – entry fees increase from the end of February……
URL:https://supsa.org.za/event/freedom-paddle-2023/
LOCATION:Oceana Power Boat Club\, Hal Road\, Granger Bay\, Cape Town\, Western Cape\, South Africa
ATTACH;FMTTYPE=image/png:https://supsa.org.za/wp-content/uploads/2023/01/Freedom-Paddle-x-Prescient-2048x427-1-e1676387079626.png
END:VEVENT
BEGIN:VEVENT
DTSTART;TZID=Europe/Helsinki:20230401T093000
DTEND;TZID=Europe/Helsinki:20230401T130000
DTSTAMP:20260419T152830
CREATED:20230217T083737Z
LAST-MODIFIED:20230217T083737Z
UID:8513-1680341400-1680354000@supsa.org.za
SUMMARY:Paddle for the Paw
DESCRIPTION:It’s time to have some furry friend fun on the canal! \nThis paddle is all heart! \nBring a pet food donation to be entered into the lucky draws.
URL:https://supsa.org.za/event/paddle-for-the-paw-2/
LOCATION:SUP Cape Town\, Cape Town\, South Africa
ATTACH;FMTTYPE=image/jpeg:https://supsa.org.za/wp-content/uploads/2023/02/Paddle-Paw.jpeg
END:VEVENT
END:VCALENDAR