BEGIN:VCALENDAR
VERSION:2.0
PRODID:-//SUPSA.org.za - ECPv6.15.20//NONSGML v1.0//EN
CALSCALE:GREGORIAN
METHOD:PUBLISH
X-WR-CALNAME:SUPSA.org.za
X-ORIGINAL-URL:https://supsa.org.za
X-WR-CALDESC:Events for SUPSA.org.za
REFRESH-INTERVAL;VALUE=DURATION:PT1H
X-Robots-Tag:noindex
X-PUBLISHED-TTL:PT1H
BEGIN:VTIMEZONE
TZID:Europe/Helsinki
BEGIN:DAYLIGHT
TZOFFSETFROM:+0200
TZOFFSETTO:+0300
TZNAME:EEST
DTSTART:20210328T010000
END:DAYLIGHT
BEGIN:STANDARD
TZOFFSETFROM:+0300
TZOFFSETTO:+0200
TZNAME:EET
DTSTART:20211031T010000
END:STANDARD
BEGIN:DAYLIGHT
TZOFFSETFROM:+0200
TZOFFSETTO:+0300
TZNAME:EEST
DTSTART:20220327T010000
END:DAYLIGHT
BEGIN:STANDARD
TZOFFSETFROM:+0300
TZOFFSETTO:+0200
TZNAME:EET
DTSTART:20221030T010000
END:STANDARD
BEGIN:DAYLIGHT
TZOFFSETFROM:+0200
TZOFFSETTO:+0300
TZNAME:EEST
DTSTART:20230326T010000
END:DAYLIGHT
BEGIN:STANDARD
TZOFFSETFROM:+0300
TZOFFSETTO:+0200
TZNAME:EET
DTSTART:20231029T010000
END:STANDARD
BEGIN:DAYLIGHT
TZOFFSETFROM:+0200
TZOFFSETTO:+0300
TZNAME:EEST
DTSTART:20240331T010000
END:DAYLIGHT
BEGIN:STANDARD
TZOFFSETFROM:+0300
TZOFFSETTO:+0200
TZNAME:EET
DTSTART:20241027T010000
END:STANDARD
BEGIN:DAYLIGHT
TZOFFSETFROM:+0200
TZOFFSETTO:+0300
TZNAME:EEST
DTSTART:20250330T010000
END:DAYLIGHT
BEGIN:STANDARD
TZOFFSETFROM:+0300
TZOFFSETTO:+0200
TZNAME:EET
DTSTART:20251026T010000
END:STANDARD
END:VTIMEZONE
BEGIN:VEVENT
DTSTART;TZID=Europe/Helsinki:20240204T080000
DTEND;TZID=Europe/Helsinki:20240204T140000
DTSTAMP:20260419T212042
CREATED:20240116T122926Z
LAST-MODIFIED:20240116T122926Z
UID:9260-1707033600-1707055200@supsa.org.za
SUMMARY:PRESCIENT OCEANA CLIFTON CHALLENGE
DESCRIPTION:SUPS and prone boards are invited to join in on a beautiful paddle from the waterfront harbour towards Clifton and back. (Alternative Granger Bay route also under consideration) \n7km short course for sups & prones R120 / juniors R100 \nLonger course for skis only. \nEntries on Freedom Paddlers’ website below. \nEntries close at 12pm on 3rd February 2024.
URL:https://supsa.org.za/event/prescient-oceana-clifton-challenge-2/
LOCATION:Oceana Power Boat Club\, Haul Rd\, Green Point\, Cape Town\, Western Cape\, 8005\, South Africa
ATTACH;FMTTYPE=image/jpeg:https://supsa.org.za/wp-content/uploads/2024/01/Oceana-Clifton-challenge.jpg
END:VEVENT
BEGIN:VEVENT
DTSTART;TZID=Europe/Helsinki:20240127T100000
DTEND;TZID=Europe/Helsinki:20240127T170000
DTSTAMP:20260419T212042
CREATED:20240116T112751Z
LAST-MODIFIED:20240116T112751Z
UID:9249-1706349600-1706374800@supsa.org.za
SUMMARY:West Coast Challenge
DESCRIPTION:ONLINE ENTRIES are now OPEN for the annual APPLIANCE WORLD WEST COAST CANOE CHALLENGE. ( 27 JAN 2024). \n\n5 or 10km novice flat water paddle starting in front of the Riviera Hotel.\n16/20km SUPSA National Race to follow shortly after.\n\nWonderful prizes and medals at the Prize Giving afterwards – experience the West Coast “gees”. \nPFDs are compulsory! \nEntry fee: R150 Seniors / R70 Juniors / students \n* If you are a registered paddler with CSA ( Canoeing SA) then you know by this time how to get your online entry in.\n** But if you are not registered then you have to follow this link NON-CSA member entries\nIt is an easy and fast process.
URL:https://supsa.org.za/event/west-coast-challenge/
LOCATION:Riviera Hotel\, Velddrif\, 136 Voortrekker rd\, Velddrif\, Western Cape\, 7365\, South Africa
ATTACH;FMTTYPE=image/jpeg:https://supsa.org.za/wp-content/uploads/2024/01/West-Coast-Challenge.jpeg
ORGANIZER;CN="Paddlesports South Africa PSA":MAILTO:https://paddlesportsa.co.za/contact-us/
END:VEVENT
BEGIN:VEVENT
DTSTART;VALUE=DATE:20231125
DTEND;VALUE=DATE:20231127
DTSTAMP:20260419T212042
CREATED:20230106T195546Z
LAST-MODIFIED:20230108T193449Z
UID:8328-1700870400-1701043199@supsa.org.za
SUMMARY:SUP MAVERICKS VS YOUNG GUNS - RACE 2
DESCRIPTION:Here they go again – young vs old\, experienced vs newbies….. \nLet the South-easter blow!
URL:https://supsa.org.za/event/sup-mavericks-vs-young-guns-race-2/
LOCATION:Fish Hoek Beach Sports Club\, 3 Peter Creese Way\, Fish Hoek\, Western Cape\, 7995\, South Africa
END:VEVENT
BEGIN:VEVENT
DTSTART;VALUE=DATE:20231115
DTEND;VALUE=DATE:20231120
DTSTAMP:20260419T212042
CREATED:20230106T195543Z
LAST-MODIFIED:20230214T145857Z
UID:8330-1700006400-1700438399@supsa.org.za
SUMMARY:ICF WORLD SUP CHAMPIONSHIPS
DESCRIPTION:The world’s best will be paddling the balmy waters of Pattaya\, Thailand this year…. \nAre you up for it? \n 
URL:https://supsa.org.za/event/__trashed/
LOCATION:Pattaya\, Thailand\, Pattaya\, Thailand
ATTACH;FMTTYPE=image/png:https://supsa.org.za/wp-content/uploads/2023/01/ICF-logo.png
END:VEVENT
BEGIN:VEVENT
DTSTART;VALUE=DATE:20231021
DTEND;VALUE=DATE:20231023
DTSTAMP:20260419T212042
CREATED:20230108T193326Z
LAST-MODIFIED:20230108T193326Z
UID:8325-1697846400-1698019199@supsa.org.za
SUMMARY:SUP MAVERICKS VS YOUNG GUNS RACE 1
DESCRIPTION:The Downwind struggle continues between the SUP Mavericks and the Young Guns. \nWatching the wind to see if we are on!…….
URL:https://supsa.org.za/event/sup-mavericks-vs-young-guns-race-1/
LOCATION:Fish Hoek Beach Sports Club\, 3 Peter Creese Way\, Fish Hoek\, Western Cape\, 7995\, South Africa
END:VEVENT
BEGIN:VEVENT
DTSTART;TZID=Europe/Helsinki:20230924T080000
DTEND;TZID=Europe/Helsinki:20231001T170000
DTSTAMP:20260419T212042
CREATED:20230901T132057Z
LAST-MODIFIED:20230901T132057Z
UID:9141-1695542400-1696179600@supsa.org.za
SUMMARY:ISA SUP & PADDLEBOARD WORLD CHAMPIONSHIPS
DESCRIPTION:
URL:https://supsa.org.za/event/isa-sup-paddleboard-world-championships/
LOCATION:Western Cape
END:VEVENT
BEGIN:VEVENT
DTSTART;VALUE=DATE:20230916
DTEND;VALUE=DATE:20230917
DTSTAMP:20260419T212042
CREATED:20230108T193205Z
LAST-MODIFIED:20230908T143156Z
UID:8320-1694822400-1694908799@supsa.org.za
SUMMARY:OLYMPIC WAVE CLASSIC PRESENTED BY RACEFOOD
DESCRIPTION:Always a good vibe for SUP SURF  paddleboarding at Muizies! \nJoin us! \nEnter here: https://forms.gle/5PpasojVo2dTLLRu6 \nPayment details below: (Enter amount as per your categories chosen) \nPlease pay after registering your entry. \n			\n				\n				\n				\n				\n				\n\n\n\n\n\n\nAmount:
URL:https://supsa.org.za/event/olympic-wave-classic/
LOCATION:Muizenberg Civic Centre (The Pavilion)\, Beach road\, Muizenberg\, Cape Town\, 7945\, South Africa
ATTACH;FMTTYPE=image/png:https://supsa.org.za/wp-content/uploads/2023/01/WAVE-CLASSIC-1.png
END:VEVENT
BEGIN:VEVENT
DTSTART;TZID=Europe/Helsinki:20230701T083000
DTEND;TZID=Europe/Helsinki:20230702T120000
DTSTAMP:20260419T212042
CREATED:20230613T123528Z
LAST-MODIFIED:20230630T175347Z
UID:8957-1688200200-1688299200@supsa.org.za
SUMMARY:OLYMPIC SUP SHOOTOUT SERIES
DESCRIPTION:Join us under the banner of Olympic South Africa\, as they sponsor our winter SUP Shootout Series. Two days of Stand up Paddle-boarding skills on display – entry is open to everybody! \nFor advanced paddlers\, these results will count towards the ICF SA SUP Team Selection. \nDay one – Saturday – a 1km Technical course as well as a 200m Sprint session. (For the Socialites: a 500m Technical course and 100m sprint will also be held.) \nDay two – Sunday – join the NSRI lighthouse fundraiser for a short 5km social distance or a longer 16km paddle for the advanced paddlers. Starts at Fish Hoek Beach Sports Club and will go to the Glencairn Wreck and back.  \n1. REGISTRATION:  \nClick the button below to register on Webscorer for day one.  \nPlease tick the boxes on the landing page to pre-select your events! \n			\n				\n				\n				\n				\n				Click here to register\n			\n			\n				\n				\n				\n				\n			\n				\n				\n				\n				\n				\n				\n				\n				\n				\n				\n				2. PAYMENT:  \nPlease pay in cash on Saturday for Sprint / Technical: \n(R100 for 1 event – R200 for 2 events ) \nPlease pay the NSRI directly to enter the distance race: \nhttps://www.quicket.co.za/events/222283-lighthouse-fundraiser-ocean-event-for-nsri/#/
URL:https://supsa.org.za/event/olympic-sup-shootout-series/
LOCATION:Peninsula Canoe club\, Zandvlei\, Muizenberg\, 1 Promenade Road\, Lakeside\, MUIZENBERG\, Western Cape\, 7945\, South Africa
ATTACH;FMTTYPE=image/jpeg:https://supsa.org.za/wp-content/uploads/2023/06/SUP-SHOOTOUT-e1687772544734.jpeg
ORGANIZER;CN="SUPSA":MAILTO:supsasecretary@gmail.com
END:VEVENT
BEGIN:VEVENT
DTSTART;VALUE=DATE:20230625
DTEND;VALUE=DATE:20230626
DTSTAMP:20260419T212042
CREATED:20221215T103042Z
LAST-MODIFIED:20230502T105903Z
UID:8313-1687651200-1687737599@supsa.org.za
SUMMARY:KING OF THE BAY (DURBAN)
DESCRIPTION:An option to paddle in harbour waters among the giant vessels! Let’s go! \nDetails to be published when released…..
URL:https://supsa.org.za/event/king-of-the-bay-durban/
LOCATION:Stella Canoe Club\, Wilson Wharf\, 3 Maritime Pl\, Durban Central\, Durban\, KwaZulu Natal\, 4001\, South Africa
END:VEVENT
BEGIN:VEVENT
DTSTART;VALUE=DATE:20230615
DTEND;VALUE=DATE:20230619
DTSTAMP:20260419T212042
CREATED:20221215T103720Z
LAST-MODIFIED:20230108T193128Z
UID:8315-1686787200-1687132799@supsa.org.za
SUMMARY:ANNUAL KING & QUEEN OF THE BAY (EL)
DESCRIPTION:Who will rule over the waves on this day? \nDetails to follow……..
URL:https://supsa.org.za/event/annual-king-queen-of-the-bay-el/
LOCATION:East London\, 5200\, South Africa
END:VEVENT
BEGIN:VEVENT
DTSTART;VALUE=DATE:20230527
DTEND;VALUE=DATE:20230529
DTSTAMP:20260419T212042
CREATED:20230108T193041Z
LAST-MODIFIED:20230502T120228Z
UID:8311-1685145600-1685318399@supsa.org.za
SUMMARY:EAST COAST CLASSIC
DESCRIPTION:Let’s hit Durban’s North Beach for a taste of warm water SUP SURF fun\, or join the SUP racers dashing down to Point Beach! \nThere are surfing\, racing and ins & outs to be enjoyed – why wait? \nAll entry details available on the organiser’s website: \nhttp://www.supdurbs.co.za/pages/20008/east-coast-classic-2023
URL:https://supsa.org.za/event/east-coast-classic/
LOCATION:KZN
ATTACH;FMTTYPE=image/png:https://supsa.org.za/wp-content/uploads/2023/01/Screenshot-2023-05-02-at-13.46.08.png
END:VEVENT
BEGIN:VEVENT
DTSTART;VALUE=DATE:20230427
DTEND;VALUE=DATE:20230428
DTSTAMP:20260419T212042
CREATED:20230108T193009Z
LAST-MODIFIED:20230228T134713Z
UID:8308-1682553600-1682639999@supsa.org.za
SUMMARY:FREEDOM PADDLE 2023
DESCRIPTION:The iconic paddle in the fairest Cape of all! \nWho will brave the full distance this year? A shorter 10km course will be available too. \nSee the link to the official website below – entry fees increase from the end of February……
URL:https://supsa.org.za/event/freedom-paddle-2023/
LOCATION:Oceana Power Boat Club\, Hal Road\, Granger Bay\, Cape Town\, Western Cape\, South Africa
ATTACH;FMTTYPE=image/png:https://supsa.org.za/wp-content/uploads/2023/01/Freedom-Paddle-x-Prescient-2048x427-1-e1676387079626.png
END:VEVENT
BEGIN:VEVENT
DTSTART;TZID=Europe/Helsinki:20230401T093000
DTEND;TZID=Europe/Helsinki:20230401T130000
DTSTAMP:20260419T212042
CREATED:20230217T083737Z
LAST-MODIFIED:20230217T083737Z
UID:8513-1680341400-1680354000@supsa.org.za
SUMMARY:Paddle for the Paw
DESCRIPTION:It’s time to have some furry friend fun on the canal! \nThis paddle is all heart! \nBring a pet food donation to be entered into the lucky draws.
URL:https://supsa.org.za/event/paddle-for-the-paw-2/
LOCATION:SUP Cape Town\, Cape Town\, South Africa
ATTACH;FMTTYPE=image/jpeg:https://supsa.org.za/wp-content/uploads/2023/02/Paddle-Paw.jpeg
END:VEVENT
BEGIN:VEVENT
DTSTART;TZID=Europe/Helsinki:20230325T080000
DTEND;TZID=Europe/Helsinki:20230325T150000
DTSTAMP:20260419T212042
CREATED:20230108T191603Z
LAST-MODIFIED:20230324T073834Z
UID:8299-1679731200-1679756400@supsa.org.za
SUMMARY:XPRESSION SUP WAVE COMPETITION
DESCRIPTION:It’s time to dust off those holiday cobwebs and hit the surf! \nThis is a SUP SURF event with RACING ins & outs for SUPS & PRONES. \n(NOTE: 26th is a holdover day in event of bad weather on the 25th.) \nClosing date for entries & payments is Thursday\, 23rd March.
URL:https://supsa.org.za/event/xpression-sup-wave-competition/
LOCATION:Muizenberg Civic Centre (The Pavilion)\, Beach road\, Muizenberg\, Cape Town\, 7945\, South Africa
ATTACH;FMTTYPE=image/png:https://supsa.org.za/wp-content/uploads/2023/01/Screenshot-2023-02-15-at-14.39.06.png
END:VEVENT
BEGIN:VEVENT
DTSTART;TZID=Europe/Helsinki:20230311T150000
DTEND;TZID=Europe/Helsinki:20230311T173000
DTSTAMP:20260419T212042
CREATED:20230108T192943Z
LAST-MODIFIED:20230215T092738Z
UID:8303-1678546800-1678555800@supsa.org.za
SUMMARY:DABULAMANZI HIGH ALTITUDE SURF SKI CHAMPS
DESCRIPTION:Some inland paddling to level the scores! It’s a whole lot of fun! \nOpen to surf skis\, SUP and prone paddlers. \nDetails on the event website listed below.
URL:https://supsa.org.za/event/dabulamanzi-high-altitude-surf-ski-champs/
LOCATION:Dabulamanzi Canoe Club\, Emmarentia Dam\, Louw Geldenhuys dr.\, Emmarentia\, Gauteng\, 2195\, South Africa
ATTACH;FMTTYPE=image/jpeg:https://supsa.org.za/wp-content/uploads/2023/01/Dabulamanzi.jpeg
END:VEVENT
BEGIN:VEVENT
DTSTART;TZID=Europe/Helsinki:20230218T103000
DTEND;TZID=Europe/Helsinki:20230218T133000
DTSTAMP:20260419T212042
CREATED:20230108T191535Z
LAST-MODIFIED:20230213T113914Z
UID:8297-1676716200-1676727000@supsa.org.za
SUMMARY:SUP CAPE TOWN SPRINTS
DESCRIPTION:Join us to paddle with or to watch the fast flying SUPS and prones in front of the Table Bay hotel. \nCategories include open men’s / open women’s / open prone and a fun event. It will be a knockout format so you will paddle at least twice! \n\nDrop and go for boards behind the Table Bay Hotel  –  then move cars to the waterfront parking in front of the Waterfront centre\, it’s a short walk through the centre to the event site. There is outside parking for trailers and high vehicles or underground parking if preferred.\nThere is food available in the centre.\nFor boards there will be a pool available / jetty areas to keep boards safe.  If it’s windy all competitors must secure their own equipment.\nPlease bring a leash for safety / wind.\n\nClick to REGISTER HERE  – closing date is Thursday 16 Feb. Heats will be posted on Friday.  \nPay for the event using the button below – you can modify the amount if paying for multiple entries. (R75 per category) \n			\n				\n				\n				\n				\n				 \n \n\n\n\n\n\n\nAmount: \n\n\n\n\n\n\nQuantity:
URL:https://supsa.org.za/event/sup-cape-town-sprints/
LOCATION:V&A Waterfront harbour
ATTACH;FMTTYPE=image/jpeg:https://supsa.org.za/wp-content/uploads/2023/01/sup-CT-sprints.jpeg
END:VEVENT
BEGIN:VEVENT
DTSTART;TZID=Europe/Helsinki:20230208T183000
DTEND;TZID=Europe/Helsinki:20230208T193000
DTSTAMP:20260419T212042
CREATED:20230123T175926Z
LAST-MODIFIED:20230123T180048Z
UID:8444-1675881000-1675884600@supsa.org.za
SUMMARY:SUPSA AGM
DESCRIPTION:Join us online for our annual AGM and help us to make the next year of paddling a bumper one! \nDetails on image.
URL:https://supsa.org.za/event/supsa-agm/
LOCATION:Western Cape
ATTACH;FMTTYPE=image/jpeg:https://supsa.org.za/wp-content/uploads/2023/01/AGM-2023.jpeg
ORGANIZER;CN="SUPSA":MAILTO:supsasecretary@gmail.com
END:VEVENT
BEGIN:VEVENT
DTSTART;VALUE=DATE:20230205
DTEND;VALUE=DATE:20230206
DTSTAMP:20260419T212042
CREATED:20230112T111204Z
LAST-MODIFIED:20230120T123005Z
UID:8402-1675555200-1675641599@supsa.org.za
SUMMARY:PRESCIENT OCEANA CLIFTON CHALLENGE
DESCRIPTION:SUPS and prone boards are invited to join in on a beautiful paddle from the waterfront harbour towards Clifton and back. \n6km short course for sups & prones R120 \nLonger course for skis only. \nEntries on CSA website below\, closing date is 3rd February 2023
URL:https://supsa.org.za/event/prescient-oceana-clifton-challenge/
LOCATION:Oceana Power Boat Club\, Haul Rd\, Green Point\, Cape Town\, Western Cape\, 8005\, South Africa
ATTACH;FMTTYPE=image/jpeg:https://supsa.org.za/wp-content/uploads/2023/01/CLIFTON-CHALLENGE.jpeg
ORGANIZER;CN="Paddlesports South Africa PSA":MAILTO:https://paddlesportsa.co.za/contact-us/
END:VEVENT
BEGIN:VEVENT
DTSTART;TZID=Europe/Helsinki:20230128T100000
DTEND;TZID=Europe/Helsinki:20230128T150000
DTSTAMP:20260419T212042
CREATED:20230106T201618Z
LAST-MODIFIED:20230126T134225Z
UID:8290-1674900000-1674918000@supsa.org.za
SUMMARY:West Coast Canoe Challenge 2023
DESCRIPTION:This race includes the SUPSA Sanctioned distances and a social option on the Berg River in Velddrif.  Save the date to enjoy some true West Coast “gees”!\nSanctioned races: 10km for junior and 50+ athletes  OR  16km for open and 40+ athletes\nENTER  on http://www.canoesa.org.za/\n  \nSocial / beginners paddle – 5 OR 10km option – TO ENTER use this link: Social Race Entry form\nFUN PADDLE ENTRIES CLOSE THURSDAY 26 JANUARY AT 23:59 \n\nAll paddlers must wear a Life Jacket (PFD)\nAll novices and non-CSA registered paddlers must sign the indemnity form (T&Cs).  All Junior paddlers under the age of 18 must have a parent or legal guardian sign the indemnity form (T&Cs) which can be viewed HERE.\n\nCourse maps are as follows:\n\nAbove: The 16km course for OPEN AND 40+ SUP ATHLETES \n\nAbove: The 10km course for JUNIOR AND 50+ SUP ATHLETES \n The course for 5km paddlers is from the Riviera Hotel to the turnaround opposite the Columbine Coffee shop \n 
URL:https://supsa.org.za/event/west-coast-canoe-challenge-2023/
LOCATION:Riviera Hotel\, Velddrif\, 136 Voortrekker rd\, Velddrif\, Western Cape\, 7365\, South Africa
ATTACH;FMTTYPE=image/jpeg:https://supsa.org.za/wp-content/uploads/2022/12/West-Coast-Challenge-2023.jpeg
END:VEVENT
BEGIN:VEVENT
DTSTART;VALUE=DATE:20221112
DTEND;VALUE=DATE:20221113
DTSTAMP:20260419T212042
CREATED:20220518T110554Z
LAST-MODIFIED:20221111T064117Z
UID:6700-1668211200-1668297599@supsa.org.za
SUMMARY:DOWNWIND SERIES Race 2
DESCRIPTION:Check in at FHBSC at 12pm. \nReverse Millers from FHBSC at 1.30pm – book with Vinny if you need a lift back from Miller’s Point to Fish Hoek! \nPure social – no race – just pitch and paddle!
URL:https://supsa.org.za/event/downwind-series-race-2/
LOCATION:Fish Hoek Beach Sports Club\, 3 Peter Creese Way\, Fish Hoek\, Western Cape\, 7995\, South Africa
ATTACH;FMTTYPE=image/jpeg:https://supsa.org.za/wp-content/uploads/2022/05/Downwind-series-2.jpg
ORGANIZER;CN="SUPSA":MAILTO:supsasecretary@gmail.com
END:VEVENT
BEGIN:VEVENT
DTSTART;TZID=Europe/Helsinki:20221022T140000
DTEND;TZID=Europe/Helsinki:20221022T170000
DTSTAMP:20260419T212042
CREATED:20220929T095248Z
LAST-MODIFIED:20220929T095248Z
UID:7984-1666447200-1666458000@supsa.org.za
SUMMARY:3 BEACHES WITH MOCKE PADDLING
DESCRIPTION:Join us for the first race of the summer at FHBSC! \nOpen to K1\, K2\, SUP and Prone Boards. Short course available. \nProudly sponsored by Mocke Paddling and Central Mica.
URL:https://supsa.org.za/event/3-beaches-with-mocke-paddling/
LOCATION:Fish Hoek Beach Sports Club\, 3 Peter Creese Way\, Fish Hoek\, Western Cape\, 7995\, South Africa
ATTACH;FMTTYPE=image/jpeg:https://supsa.org.za/wp-content/uploads/2022/09/3-beaches-poster-.jpeg
END:VEVENT
BEGIN:VEVENT
DTSTART;VALUE=DATE:20221015
DTEND;VALUE=DATE:20221016
DTSTAMP:20260419T212042
CREATED:20220518T110709Z
LAST-MODIFIED:20220921T080044Z
UID:6702-1665792000-1665878399@supsa.org.za
SUMMARY:PiliPili Whale of a Race 2022
DESCRIPTION:The race distance is approximately 7km and there is a small section to carry your board. \nDepending on the sandbank on the day it varies between 30 – 200m. \nRegistration 8am\,   Skippers 8:30am\,   Start 9am.
URL:https://supsa.org.za/event/pili-pili-witsands/
LOCATION:PiliPili Witsand\, Joseph Barry Drive\, Witsand\, Western Cape\, 6666\, South Africa
ATTACH;FMTTYPE=image/jpeg:https://supsa.org.za/wp-content/uploads/2022/05/pili-pili-map.jpeg
ORGANIZER;CN="Neels Swanepoel":MAILTO:info@pilipili.co.za
END:VEVENT
BEGIN:VEVENT
DTSTART;TZID=Europe/Helsinki:20221014T170000
DTEND;TZID=Europe/Helsinki:20221014T190000
DTSTAMP:20260419T212042
CREATED:20220929T094616Z
LAST-MODIFIED:20220929T095656Z
UID:7980-1665766800-1665774000@supsa.org.za
SUMMARY:SEADOG PADDLE SERIES: OCT TO MARCH
DESCRIPTION:Five Legendary Laps Raced every Friday for surfskis\, and three on a SUP! \nSeadog (Season 13) kicks off on Friday 14th of October at Fish Hoek Surf Lifesaving Club! It is happening every following Friday for 20 sessions afterwards.  See poster for date details. \nOnce again supported by amazing local brands and companies this is a local race with a global vision!\n#nevercancelled
URL:https://supsa.org.za/event/seadog-series-oct-to-march/
LOCATION:Fish Hoek Lifesaving Club\, Fish Hoek Surf Lifesaving Club\, Peter Creese Way\, Fish Hoek Beach\, Fish Hoek\, Western Province\, 7995\, South Africa
ATTACH;FMTTYPE=image/jpeg:https://supsa.org.za/wp-content/uploads/2022/09/seadog-series-poster.jpeg
END:VEVENT
BEGIN:VEVENT
DTSTART;TZID=Europe/Helsinki:20221008T090000
DTEND;TZID=Europe/Helsinki:20221008T130000
DTSTAMP:20260419T212042
CREATED:20220929T103751Z
LAST-MODIFIED:20220929T103751Z
UID:7988-1665219600-1665234000@supsa.org.za
SUMMARY:STARBOARD PRODUCT LAUNCH / MEET OUR WORLD SPRINT CHAMP
DESCRIPTION:Join us on 8 October from 9 – 1 PM for the StarBoard 2023 product launch.\n\nHere you will have the chance to meet and greet the Junior SUP World Champ\, Cameron Tripney and see the brand new 2023 Star-Board Products – SUP\, Wingfoils\, Foilboards\, and Windsurf gear.\n\nWhere: Surf ‘n Sport\, Unit B40 Milnerton Business Park. C/O Koeberg rd and Montague Gardens\, CPT.\n\nRSVP via the facebook event link below\, or for more info get in touch with sales@surfnsport.co.za or call 082 419 1091.
URL:https://supsa.org.za/event/starboard-product-launch-meet-our-world-sprint-champ/
LOCATION:Western Cape
ATTACH;FMTTYPE=image/jpeg:https://supsa.org.za/wp-content/uploads/2022/09/Cameron-Starboard-launch.jpeg
END:VEVENT
BEGIN:VEVENT
DTSTART;TZID=Europe/Helsinki:20221001T120000
DTEND;TZID=Europe/Helsinki:20221001T160000
DTSTAMP:20260419T212042
CREATED:20220518T110336Z
LAST-MODIFIED:20220930T072235Z
UID:6695-1664625600-1664640000@supsa.org.za
SUMMARY:DOWNWIND SERIES
DESCRIPTION:Check in at FHBSC at 12pm. \nDepart for Millers 1.15pm – book with Vinny if you need a lift! \nRace starts at 2pm! \nPrize giving afterwards at FHBSC. See you there! \nOnline payments have now closed – please pay in cash on the day. \n			\n				REGISTER HERE
URL:https://supsa.org.za/event/downwind-series/
LOCATION:Fish Hoek Beach Sports Club\, 3 Peter Creese Way\, Fish Hoek\, Western Cape\, 7995\, South Africa
ATTACH;FMTTYPE=image/png:https://supsa.org.za/wp-content/uploads/2022/05/Screen-Shot-2022-09-21-at-11.15.14.png
ORGANIZER;CN="SUPSA":MAILTO:supsasecretary@gmail.com
END:VEVENT
BEGIN:VEVENT
DTSTART;VALUE=DATE:20220907
DTEND;VALUE=DATE:20220912
DTSTAMP:20260419T212042
CREATED:20220518T110207Z
LAST-MODIFIED:20220817T112903Z
UID:6693-1662508800-1662940799@supsa.org.za
SUMMARY:ICF STAND UP PADDLING WORLD CHAMPIONSHIPS
DESCRIPTION:2022 ICF Stand Up Paddling World Championships to be held in Gdynia\, Poland
URL:https://supsa.org.za/event/icf-stand-up-paddling-world-championships/
LOCATION:Western Cape
ATTACH;FMTTYPE=image/jpeg:https://supsa.org.za/wp-content/uploads/2022/05/ICF-GDYNIA-logo.jpeg
END:VEVENT
BEGIN:VEVENT
DTSTART;VALUE=DATE:20220828
DTEND;VALUE=DATE:20220829
DTSTAMP:20260419T212042
CREATED:20220426T104707Z
LAST-MODIFIED:20220824T112241Z
UID:6507-1661644800-1661731199@supsa.org.za
SUMMARY:SUP TYGER Technical Races 3
DESCRIPTION:This event has been cancelled due to our athlete blazer ceremony on 27th August\, and final preparations for departure to the world champs in early September. \n 
URL:https://supsa.org.za/event/sup-tyger-technical-races-3/
LOCATION:TYGER WATERFRONT\, 18-19\, Tyger Waterfront\, Carl Cronje Dr\,\, Bellville\, Cape Town\, Western Cape\, 7530\, South Africa
ATTACH;FMTTYPE=image/jpeg:https://supsa.org.za/wp-content/uploads/2022/04/cancelled-image.jpeg
ORGANIZER;CN="SUPSA":MAILTO:supsasecretary@gmail.com
END:VEVENT
BEGIN:VEVENT
DTSTART;TZID=Europe/Helsinki:20220827T120000
DTEND;TZID=Europe/Helsinki:20220827T140000
DTSTAMP:20260419T212042
CREATED:20220812T154816Z
LAST-MODIFIED:20220817T111910Z
UID:7380-1661601600-1661608800@supsa.org.za
SUMMARY:SUPSA TEAM SA - BLAZER CEREMONY
DESCRIPTION:Join us as we hand out the team kit and national blazers to our  2022 team of SUP athletes. They leave to attend the ICF WORLD SUP CHAMPIONSHIPS in Gdynia\, Poland on the 3rd of September!\nThey would love your support!
URL:https://supsa.org.za/event/supsa-team-sa-blazer-ceremony/
LOCATION:The Shed Surfers corner\, 165 Main Road\, Muizenberg\, Western Cape\, 7945\, South Africa
ATTACH;FMTTYPE=image/png:https://supsa.org.za/wp-content/uploads/2022/07/sup-team-badge-e1660319153662.png
ORGANIZER;CN="SUPSA":MAILTO:supsasecretary@gmail.com
END:VEVENT
BEGIN:VEVENT
DTSTART;VALUE=DATE:20220730
DTEND;VALUE=DATE:20220801
DTSTAMP:20260419T212042
CREATED:20220628T055857Z
LAST-MODIFIED:20220812T153119Z
UID:7053-1659139200-1659311999@supsa.org.za
SUMMARY:THE SUP WINTER FESTIVAL
DESCRIPTION:Just what you’ve been waiting for – the SUP Winter Festival!!! \nThese are the categories: \n\nSUP surfing – show us those aerials & cutbacks on your shortboard!\nRacing (ins & outs) – punch through the waves in the 14′ fitness challenge!\na NEW 9ft-plus longboard SUP SURF division – styling toes on the nose with your longboard SUP!\n\nPack your quiver and head to Muizenberg beach!  \n			\n				\n				\n				\n				\n				CLOSING DATE  – 25 JULY 2022.Competition will only run if a minimum entry of 25 people is attained. \nEnter your details using the button below: \n			\n				COMPETITION ENTRY FORM\n			\n				\n				\n				\n				\n				This competition has ended. 
URL:https://supsa.org.za/event/sup-winter-festival/
LOCATION:Muizenberg Beach\, 56 Beach Road\, Muizenberg\, Western Cape\, 7950\, South Africa
ATTACH;FMTTYPE=image/jpeg:https://supsa.org.za/wp-content/uploads/2022/06/Winter-sup-classic.jpeg
END:VEVENT
BEGIN:VEVENT
DTSTART;VALUE=DATE:20220703
DTEND;VALUE=DATE:20220704
DTSTAMP:20260419T212042
CREATED:20220518T104810Z
LAST-MODIFIED:20220624T081749Z
UID:6688-1656806400-1656892799@supsa.org.za
SUMMARY:ZINKWAZI RACE
DESCRIPTION:Great news!! The Lagoon levels are looking great for this race on the Zinkwazi Lagoon. \nAll is on track for a great day on the water! \nEnter now on the website link provided below. \nDriftwood Estates will help you to book accommodation in Zinkwazi – they’re the locals with the know how!
URL:https://supsa.org.za/event/zinkwazi-race/
LOCATION:Western Cape
ATTACH;FMTTYPE=image/jpeg:https://supsa.org.za/wp-content/uploads/2022/05/Zinkwazi-race-poster-e1656058645735.jpeg
END:VEVENT
END:VCALENDAR